BEGIN:VCALENDAR
VERSION:2.0
PRODID:-//wp-events-plugin.com//7.2.3.1//EN
TZID:Europe/Warsaw
X-WR-TIMEZONE:Europe/Warsaw
BEGIN:VEVENT
UID:9197@night4u.pl
DTSTART;TZID=Europe/Warsaw:20190309T210000
DTEND;TZID=Europe/Warsaw:20190310T030000
DTSTAMP:20190307T234534Z
URL:https://night4u.pl/wydarzenia/burn-reynolds-w-soul-train-klubokawiarni
 a/
SUMMARY:Burn Reynolds w Soul Train Klubokawiarnia
DESCRIPTION:We got Soul! Już 9 marca za naszymi deckami będziemy gościć
  niesamowitą postać jaką jest Burn Reynolds. Człowiek wielu talentów 
 - członek ekipy Soul Service\, autor audycji "Fusion" w Jazz Radiu\, orga
 nizator koncertów (między innymi Karl Hector & the Malcouns\, Tomy Allen
 \, Hypnotic Brass Ensemble)\; uczestnik inicjatywy Boiler Room\, a także 
 jeden z pomysłodawców kultowego w muzycznych kręgach wydawnictwa "Polis
 h Funk". To wszystko może owocować tylko jednym - solidną porcją świe
 tnie wyselekcjonowanej muzyki!\n\nTo będzie wyjątkowa sobota. Przekonajc
 ie się na własne uszy i odwiedźcie Soul Train o godzinie 21:00 - wstęp
  darmowy!
ATTACH;FMTTYPE=image/jpeg:https://night4u.pl/wp-content/uploads/2019/03/24
 942_image_52779847_2901111286696256_8229742893502300160_o.jpg
CATEGORIES:dolnośląskie
LOCATION:Soul Train Klubokawiarnia\, ul. Bogusławskiego 27\, Wroclaw\, 50-
 023\, Poland
GEO:51.10084;17.026
X-APPLE-STRUCTURED-LOCATION;VALUE=URI;X-ADDRESS=ul. Bogusławskiego 27\, Wr
 oclaw\, 50-023\, Poland;X-APPLE-RADIUS=100;X-TITLE=Soul Train Klubokawiarn
 ia:geo:51.10084,17.026
END:VEVENT
BEGIN:VTIMEZONE
TZID:Europe/Warsaw
X-LIC-LOCATION:Europe/Warsaw
BEGIN:STANDARD
DTSTART:20181028T020000
TZOFFSETFROM:+0200
TZOFFSETTO:+0100
TZNAME:CET
END:STANDARD
END:VTIMEZONE
END:VCALENDAR