BEGIN:VCALENDAR
VERSION:2.0
PRODID:-//wp-events-plugin.com//7.2.3.1//EN
TZID:Europe/Warsaw
X-WR-TIMEZONE:Europe/Warsaw
BEGIN:VEVENT
UID:6060@night4u.pl
DTSTART;TZID=Europe/Warsaw:20190413T170000
DTEND;TZID=Europe/Warsaw:20190413T230000
DTSTAMP:20190201T053233Z
URL:https://night4u.pl/wydarzenia/bydgoska-bitwa-freestyle-2/
SUMMARY:Bydgoska Bitwa Freestyle
DESCRIPTION:Emocje po piętnastej edycji jeszcze nie ostygły a my już zap
 raszamy was na kwiecień!\nCo to BBF? Najpopularniejsza cyklicznie odbywaj
 ąca się bitwa na słowa w regionie. Zawodnicy z całej Polski zmierzą s
 ię w pojedynkach o tytuł mistrza Bydgoszczy!\nCechuje nas wyborowa atmos
 fera i charyzmatyczny prowadzący Qsh! Za dobór instrumentali jak i akomp
 aniamentu do potupania odpowie reprezentant składu B.O.K DJ Paulo. Szykuj
 cie się na tłuste brzmienia najpopularniejszych bitów świata jak i aut
 orskie kompozycje!\n\nWstęp na imprezę od 16 roku życia. Od osób niepe
 łnoletnich wymagana pisemna zgoda opiekuna.\n\nWięcej informacji wkrótc
 e
ATTACH;FMTTYPE=image/jpeg:https://night4u.pl/wp-content/uploads/2019/01/18
 148_image_50831237_2070005683081385_6009051570891653120_o.jpg
CATEGORIES:kujawsko-pomorskie
LOCATION:Wiatrakowa Klub\, \, 
X-APPLE-STRUCTURED-LOCATION;VALUE=URI;X-ADDRESS=\, ;X-APPLE-RADIUS=100;X-TI
 TLE=Wiatrakowa Klub:geo:0,0
END:VEVENT
BEGIN:VTIMEZONE
TZID:Europe/Warsaw
X-LIC-LOCATION:Europe/Warsaw
BEGIN:DAYLIGHT
DTSTART:20190331T030000
TZOFFSETFROM:+0100
TZOFFSETTO:+0200
TZNAME:CEST
END:DAYLIGHT
END:VTIMEZONE
END:VCALENDAR