BEGIN:VCALENDAR
VERSION:2.0
PRODID:-//wp-events-plugin.com//7.2.3.1//EN
TZID:Europe/Warsaw
X-WR-TIMEZONE:Europe/Warsaw
BEGIN:VEVENT
UID:19981@night4u.pl
DTSTART;TZID=Europe/Warsaw:20190720T210000
DTEND;TZID=Europe/Warsaw:20190721T050000
DTSTAMP:20190621T201405Z
URL:https://night4u.pl/wydarzenia/c-bool-%e2%98%85-live-on-stage/
SUMMARY:C-BOOL ★ Live on Stage
DESCRIPTION:C-BOOL ★ LIVE ON STAGE\nSOB 20.07.19 ★ ENERGY 2000 KATOWICE
  \nKochani już w sobotę 20. lipca\, za energiczną konsoletą ponownie s
 tanie najpopularniejszy polski producent muzyczny i jeden z najlepszych DJ
 -ów w naszym kraju - charyzmatyczny\, niesamowity.... C-BOOL! Jego hity c
 ałkowicie zdominował czołówki radiowych list przebojów. Wystarczy wsp
 omnieć taki mega-hity jak "Never Go Away"\, "Magic Symphony"\, "Dj Is You
 r Second Name"\, czy "Wonderland". Jak zwykle w czasie sobotniej imprezy n
 ie zabraknie także innych atrakcji i niespodzianek: pokazu pirotechniki s
 cenicznej\, wystrzałów konfetti\, multilaser-show\, wyrzutni ognia i co2
  oraz inwazji energicznych gadżetów!\n\nBilet: Panie 15 zł\, Panowie 20
 zł\nWiek: +18 lat\nStart: 21:00\n \nTego wydarzenia po prostu nie możeci
 e przegapić.\nZagrają dla Was nasi rezydenci:\nMain Stage: Aras\, DeePus
 h\, D-Wave\nDance Stage: Mefiu\, Kubeck\nVIP Stage: Triks\n \nPROMOCJA / U
 RODZINY/KAWALERSKIE/PANIEŃSKIE – AKTYWNE.\nZasady promocji znajdziesz w
  naszym FAQ.\n \nRezerwacja loży ON-LINE dla zarejestrowanych i po zalogo
 waniu na naszej stronie w zakładce KLUB/REZERWACJE:\nwww.katowice.energy2
 000.pl/bilety/\n \nAktywacja pakietów promocyjnych TELEFONICZNIE:\n+48 60
 9 539 619 od pon. do pt. w godz. 8-16.\n \nLokal w pełni klimatyzowany!\n
 W całym klubie dostępne darmowe WI-FI.\nSerdecznie zapraszamy!
ATTACH;FMTTYPE=image/jpeg:https://night4u.pl/wp-content/uploads/2019/06/48
 080_image_64907004_3038385196179078_4702335520867352576_o.jpg
CATEGORIES:śląskie
LOCATION:Energy 2000 Katowice\, Katowice\, Poland
GEO:50.255951;19.02099
X-APPLE-STRUCTURED-LOCATION;VALUE=URI;X-ADDRESS=Katowice\, Poland;X-APPLE-R
 ADIUS=100;X-TITLE=Energy 2000 Katowice:geo:50.255951,19.02099
END:VEVENT
BEGIN:VTIMEZONE
TZID:Europe/Warsaw
X-LIC-LOCATION:Europe/Warsaw
BEGIN:DAYLIGHT
DTSTART:20190331T030000
TZOFFSETFROM:+0100
TZOFFSETTO:+0200
TZNAME:CEST
END:DAYLIGHT
END:VTIMEZONE
END:VCALENDAR