BEGIN:VCALENDAR
VERSION:2.0
PRODID:-//wp-events-plugin.com//7.2.3.1//EN
TZID:Europe/Warsaw
X-WR-TIMEZONE:Europe/Warsaw
BEGIN:VEVENT
UID:29896@night4u.pl
DTSTART;TZID=Europe/Warsaw:20191129T200000
DTEND;TZID=Europe/Warsaw:20191129T230000
DTSTAMP:20191031T074929Z
URL:https://night4u.pl/wydarzenia/cala-gora-barwinkow-w-olsztynie/
SUMMARY:Cała Góra Barwinków w Olsztynie
DESCRIPTION:Cała Góra Barwinków (CGB) działa od roku 1998\, a więc p
 onad 20 lat. Należy do najważniejszych wykonawców rodzimej sceny ska/r
 eggae. Muzyka grupy\, to energetyczny mix ska\, reggae i rocksteady. Znaki
 em rozpoznawczym CGB jest wysunięta na pierwszy plan\, rozbudowana sekcj
 a dęta i chwytliwe melodie. \nGrupa ma na koncie pięć płyt długograj
 ących. Ostatnia z nich – ‚Sposoby‘ ukazała się w 2018 roku.\nW 2
 004 roku zespół został zaproszony przez Jurka Owsiaka do studia telewi
 zyjnej dwójki gdzie wystąpił podczas XII Finału Wielkiej Orkiestry S
 ́wiątecznej Pomocy. Cała Góra Barwinków zaprezentowała się ró
 wnież w programach "Kuba Wojewódzki"\, „Poplista”\, „Kawa czy Her
 bata”\, „Regiony kultury” czy teŜ w programie „Taper”\, w kto
 ́rym zespół podkładał muzykę pod niemy film Charliego Chaplina „
 Charlie ucieka”. \nDebiutancka płyta CGB  zdobyła uznanie wśród pu
 bliczności i krytyków. Zebrała dobre recenzje w prasie - muzycznej (
 „Teraz Rock”\, „FreeColours”\, „Reggaebeat”) i pozamuzycznej (
 „Gazeta Wyborcza”)\, a także w portalach internetowych. Jeszcze lepie
 j wiodło się kolejnej produkcji zespołu pt. „24 godziny”. Spotkał
 a się z entuzjastycznym przyjęciem\, czego wyrazem czwarte miejscu w p
 lebiscycie pisma ‘Free Colours’ na najlepszą płytę roku. Tytułow
 a piosenka wylądowała na trzecim miejscu tego zestawienia w kategorii 
 ‘Piosenka roku’. Dotarła też do pierwszego miejsca listy przebojów
  Radia Bis. Drugi singiel z tej płyty - ‘Tracę czas’ - gościł ba
 rdzo często na antenie radiowej Trójki. \nKolejne płyty – ‚Kocham
  kłopoty‘ (2010) i ‚Beat 2 Meet U‘ (2013) - ugruntowały pozycję g
 rupy na krajowym rynku muzycznym.\nW 2014 roku Cała Góra Barwinków wzi
 ęła udział w 4 edycji programu ‚X Factor‘ w TVN\, odpadając na zal
 edwie dwa odcinki przed finałem. \nCGB słynie z świetnie przyjmowanych
 \, energetycznych koncertów. Wystąpiła dotąd na niemal wszystkich n
 ajważniejszych festiwalach\, a także dwukrotnie na Przystanku Woodstock 
 – w 2003 i 2013 roku oraz Heineken Opener Festival 2007 w Gdyni. Obecnie
  ma na koncie blisko 1000 występów w kraju i za granicą. \nSkład: \n
 Kuba Kaczmarek – bas/śpiew\nMaciek Kulej – klawisze\nJakub Syguda –
  perkusja\nArtur Wilk – gitara\nKarol Ryś – puzon\nMaciek Mazurek –
  saksofon\nDaniel Michoń – trąbka\nAdrian Puta – realizator zespołu
 \n\nKoncerty/promocja – Jakub Kaczmarek +48 501 757 989\n\ncgb.promotion
 @gmail.com\n\nwww.cgb.art.pl\n\nhttps://www.facebook.com/barwinki
ATTACH;FMTTYPE=image/jpeg:https://night4u.pl/wp-content/uploads/2019/10/68
 888_image_71739451_2775862779104118_9195915534997127168_n.jpg
CATEGORIES:warmińsko-mazurskie
LOCATION:Carpenter Inn Irish Pub\, Stare Miasto 3\, Olsztyn\, 10-900\, Pola
 nd
GEO:53.777251;20.476587
X-APPLE-STRUCTURED-LOCATION;VALUE=URI;X-ADDRESS=Stare Miasto 3\, Olsztyn\, 
 10-900\, Poland;X-APPLE-RADIUS=100;X-TITLE=Carpenter Inn Irish Pub:geo:53.
 777251,20.476587
END:VEVENT
BEGIN:VTIMEZONE
TZID:Europe/Warsaw
X-LIC-LOCATION:Europe/Warsaw
BEGIN:STANDARD
DTSTART:20191027T020000
TZOFFSETFROM:+0200
TZOFFSETTO:+0100
TZNAME:CET
END:STANDARD
END:VTIMEZONE
END:VCALENDAR