BEGIN:VCALENDAR
VERSION:2.0
PRODID:-//wp-events-plugin.com//7.2.3.1//EN
TZID:Europe/Warsaw
X-WR-TIMEZONE:Europe/Warsaw
BEGIN:VEVENT
UID:33570@night4u.pl
DTSTART;TZID=Europe/Warsaw:20191102T210000
DTEND;TZID=Europe/Warsaw:20191103T050000
DTSTAMP:20191102T220415Z
URL:https://night4u.pl/wydarzenia/california-love/
SUMMARY:California Love
DESCRIPTION:Wiadomo\, że najlepsze imprezy są w USA. Natomiast w USA najl
 epiej jest w Californii. A jak California to miłość. Miłość to dziew
 czyny. Ewentualnie Dziewczyn\, który będzie przygrywał tej nocy piosenk
 i stare i nowe. Piosenki to imprezy i tak koło się zamknęło. \n\nPięk
 na Pszczoła\n⭐️ "Najlepszy klub w mieście" ⭐️\n\nStart 21\nWejś
 cie free do 23 / 15zł\n\n📅 REZERWACJE \nWszystkie informacje dotycząc
 e rezerwacji:\n☎️ 696-43-23-53\n📩 piekna@pieknapszczola.pl
ATTACH;FMTTYPE=image/jpeg:https://night4u.pl/wp-content/uploads/2019/10/84
 350_image_73524673_360094544742976_6211076434379669504_n.jpg
CATEGORIES:lubelskie
LOCATION:Piękna Pszczoła\, Plac Teatralny 1 (Budynek CSK)\, Lublin\, 20-0
 37\, Poland
GEO:51.246524;22.548666
X-APPLE-STRUCTURED-LOCATION;VALUE=URI;X-ADDRESS=Plac Teatralny 1 (Budynek C
 SK)\, Lublin\, 20-037\, Poland;X-APPLE-RADIUS=100;X-TITLE=Piękna Pszczoł
 a:geo:51.246524,22.548666
END:VEVENT
BEGIN:VTIMEZONE
TZID:Europe/Warsaw
X-LIC-LOCATION:Europe/Warsaw
BEGIN:STANDARD
DTSTART:20191027T020000
TZOFFSETFROM:+0200
TZOFFSETTO:+0100
TZNAME:CET
END:STANDARD
END:VTIMEZONE
END:VCALENDAR