BEGIN:VCALENDAR
VERSION:2.0
PRODID:-//wp-events-plugin.com//7.2.3.1//EN
TZID:Europe/Warsaw
X-WR-TIMEZONE:Europe/Warsaw
BEGIN:VEVENT
UID:22943@night4u.pl
DTSTART;TZID=Europe/Warsaw:20190726T210000
DTEND;TZID=Europe/Warsaw:20190727T040000
DTSTAMP:20190724T170058Z
URL:https://night4u.pl/wydarzenia/calvin-shock-in-the-mix/
SUMMARY:Calvin Shock In The Mix
DESCRIPTION:Przed nami mocno imprezowy Weekend w Niebie! :) ⚡️? ? ‼
 ️\n\nJuż w najbliższy Piątek Calvin Shock remixer niebiańskich hitó
 w takich jak:\n\n?Starsplash - I Believe 2016 (Calvin Shock Bootleg)\nhttp
 s://www.youtube.com/watch?v=D9TZ0_xxtDw\n?Milk Inc - In My Eyes 2016 (Calv
 in Shock Bootleg)\nhttps://www.youtube.com/watch?v=NG3Ufsu3Cps\n?Mario Lop
 ez - Alone 2017 (Calvin Shock Bootleg)\nhttps://www.youtube.com/watch?v=Na
 YIWEybt34\n?DJ Insane & Calvin Shock - Insektomnia (Acid Luke & X-Meen Rem
 ix)\nhttps://www.youtube.com/watch?v=6Em4LH8T7EU\n\nTo będzie kolejna wyj
 ątkowa Noc!\n\nDo wyboru 2 parkiety taneczne\, 2 w pełni wyposażone bar
 y\, najlepsza muza i niebiański klimat!.\nWstęp do godziny 23:00 #free /
  Studenci #free przez całą noc / Bilety 10 PLN / 18+ / Selekcja
ATTACH;FMTTYPE=image/jpeg:https://night4u.pl/wp-content/uploads/2019/07/54
 219_image_67170581_2266357540078561_5933219791522234368_o.jpg
CATEGORIES:lubuskie
LOCATION:Heaven Zielona Góra\, ul. Generała Józefa Sowińskiego 38 C\, Z
 ielona Góra\, 65-067\, Poland
GEO:51.934371;15.509862
X-APPLE-STRUCTURED-LOCATION;VALUE=URI;X-ADDRESS=ul. Generała Józefa Sowi
 ńskiego 38 C\, Zielona Góra\, 65-067\, Poland;X-APPLE-RADIUS=100;X-TITLE
 =Heaven Zielona Góra:geo:51.934371,15.509862
END:VEVENT
BEGIN:VTIMEZONE
TZID:Europe/Warsaw
X-LIC-LOCATION:Europe/Warsaw
BEGIN:DAYLIGHT
DTSTART:20190331T030000
TZOFFSETFROM:+0100
TZOFFSETTO:+0200
TZNAME:CEST
END:DAYLIGHT
END:VTIMEZONE
END:VCALENDAR