BEGIN:VCALENDAR
VERSION:2.0
PRODID:-//wp-events-plugin.com//7.2.3.1//EN
TZID:Europe/Warsaw
X-WR-TIMEZONE:Europe/Warsaw
BEGIN:VEVENT
UID:33599@night4u.pl
DTSTART;TZID=Europe/Warsaw:20191026T210000
DTEND;TZID=Europe/Warsaw:20191027T060000
DTSTAMP:20250901T212650Z
URL:https://night4u.pl/wydarzenia/candyland-26-10-do-2200-wjazd-free-3/
SUMMARY:CandyLand // 26.10 // Do 22:00 wjazd free
DESCRIPTION:26 października w sobotę zabierzemy Was do najsłodszej krain
 y rozkoszy - CANDYLAND! Jak sama nazwa mówi będzie słodko\, przepysznie
  i kolorowo 🍭  🍬🍭 🍬\nNa dj'ce MOCNY SKŁAD! \n1 SALA:\n➡️ 
 Dj Kocurr x DJANGO x Kamila Witek x JOHNNY SAXO\n➡️ Myors x FINE\nSzyk
 ujcie się na najbardziej oryginalną imprezę w mieście! \n\n-----------
 -------------------------------------\n⭐️ SOBOTA ⭐️\n\n➡️Start
  21:00\n➡️Do 22:00 - wejście free\n➡️22:00-23:00 - 10zł\n➡️P
 o 23:00 - 15zł\n\nBilet wstępu obowiązuje do lokali:\nHelium Club\nRzut
  Beretem\nEl Cubano\nRIVIERA\n\nseats &amp\; tables/ rezerwacje stolików\
 n☎️: 725700205 (wt-sob. 17:00-20:00)\nWejście 18+ / DOOR SELECTION
ATTACH;FMTTYPE=image/jpeg:https://night4u.pl/wp-content/uploads/2019/10/84
 488_image_72471752_2447647552177079_4186854147296854016_o.jpg
CATEGORIES:lubelskie
LOCATION:Helium Club\, Hempla 5\, Lublin\, 20-008\, Poland
GEO:51.245425;22.557276
X-APPLE-STRUCTURED-LOCATION;VALUE=URI;X-ADDRESS=Hempla 5\, Lublin\, 20-008\
 , Poland;X-APPLE-RADIUS=100;X-TITLE=Helium Club:geo:51.245425,22.557276
END:VEVENT
BEGIN:VTIMEZONE
TZID:Europe/Warsaw
X-LIC-LOCATION:Europe/Warsaw
BEGIN:DAYLIGHT
DTSTART:20190331T030000
TZOFFSETFROM:+0100
TZOFFSETTO:+0200
TZNAME:CEST
END:DAYLIGHT
BEGIN:STANDARD
DTSTART:20191027T020000
TZOFFSETFROM:+0200
TZOFFSETTO:+0100
TZNAME:CET
END:STANDARD
END:VTIMEZONE
END:VCALENDAR