BEGIN:VCALENDAR
VERSION:2.0
PRODID:-//wp-events-plugin.com//7.2.3.1//EN
TZID:Europe/Warsaw
X-WR-TIMEZONE:Europe/Warsaw
BEGIN:VEVENT
UID:47318@night4u.pl
DTSTART;TZID=Europe/Warsaw:20200227T220000
DTEND;TZID=Europe/Warsaw:20200228T033000
DTSTAMP:20200227T052148Z
URL:https://night4u.pl/wydarzenia/cant-get-enough-juwenalia-uek/
SUMMARY:Can't get enough | Juwenalia UEK
DESCRIPTION:[ENG BELOW]\nOdliczanie do Juwenalia UEK 2020 | Koncert Główn
 y rozpoczęte na dobre! Na pewno 7 maja jest zakreślony w Waszych kalenda
 rzach. Już dzisiaj możecie zakreślić sobie kolejną datę! 27 lutego w
 idzimy się w Klub Coco Kraków. \nBy umilić Wam oczekiwanie\, już teraz
  możemy zdradzić\, że czeka na Was wiele niespodzianek\, dlatego koniec
 znie dołączajcie do naszych wydarzeń.\nBo właśnie to jest The Sound o
 f YOUwenalia!\n\nData : 27.02.2020\nStart : 22:00\nWstęp: Lista FB / legi
 tymacja UEK = Free\n\nCennik przed i po północy:\n*Piwo 0\,5 l - 5/6 zł
 \n*Wódka + Soft - 9/10 zł\n*Whisky + Soft - 11/13 zł\n*Sex on the Beach
  - 13 zł\n\n_____\n\nWe are counting down the days till Juwenalia UEK 202
 0 | Koncert Główny! We are sure the 7th of May is marked in your calenda
 r. Today you can mark another date! We hope to see on the 27th of February
  at Klub Coco Kraków. \nTo make the wait more bearable\, we can let you k
 now that we have many surprises waiting\, so be sure join our events. \nBe
 cause this is The Sound of YOUwenalia!\n\nDate: 27.02.2020\nStart: 22:00 \
 nEntrance: FB list/ UEK ID= FREE \n\nPrice list before/after midnight:\n*B
 eer 0\,5 l - 5/6 PLN\n*Vodka + Soft - 9/10 PLN\n*Whisky + soft - 11/13 PLN
 \n*Sex on the Beach - 13 PLN
ATTACH;FMTTYPE=image/jpeg:https://night4u.pl/wp-content/uploads/2020/02/15
 7967_image_84324928_10163014932860364_5483842852309958656_o.jpg
CATEGORIES:małopolskie
LOCATION:Klub Coco Kraków\, Szpitalna 38\, Kraków\, 31-024\, Poland
GEO:50.06422;19.94218
X-APPLE-STRUCTURED-LOCATION;VALUE=URI;X-ADDRESS=Szpitalna 38\, Kraków\, 31
 -024\, Poland;X-APPLE-RADIUS=100;X-TITLE=Klub Coco Kraków:geo:50.06422,19
 .94218
END:VEVENT
BEGIN:VTIMEZONE
TZID:Europe/Warsaw
X-LIC-LOCATION:Europe/Warsaw
BEGIN:STANDARD
DTSTART:20191027T020000
TZOFFSETFROM:+0200
TZOFFSETTO:+0100
TZNAME:CET
END:STANDARD
END:VTIMEZONE
END:VCALENDAR