BEGIN:VCALENDAR
VERSION:2.0
PRODID:-//wp-events-plugin.com//7.2.3.1//EN
TZID:Europe/Warsaw
X-WR-TIMEZONE:Europe/Warsaw
BEGIN:VEVENT
UID:24667@night4u.pl
DTSTART;TZID=Europe/Warsaw:20190817T220000
DTEND;TZID=Europe/Warsaw:20190818T060000
DTSTAMP:20190815T220724Z
URL:https://night4u.pl/wydarzenia/captain-morgan-pres-latino-night-lista-f
 ree-do-2300-6/
SUMMARY:Captain Morgan pres. Latino night // lista free do 23:00
DESCRIPTION:LISTA FB WCHODZI FREE DO 23:00! \nWYSTARCZY KLIKNĄĆ "WEZMĘ U
 DZIAŁ"\nLISTĘ ZAMYKAMY O 19:00!\n\nTA SOBOTA  będzie gorrrrąca. Zapras
 zamy na latynoskie klimaty ♥\nZaczniemy występem Candela Zespół Latyn
 oski\, a później impreza z DJ'em Victor Baeza & Roman Mendez\n\n========
 ===================================\nO parkiety zadbają ze starannością
  :\nHeaven: DJ KRANE\nPurgatory: Erick Silent\nHell: Candela Zespół Laty
 noski & DJ's\nKaraoke: KRYSIA\n===========================================
 ===\nStart: 22:00\nWstęp: 15 zł\n\nLISTA FB WCHODZI FREE DO 23:00! \nWYS
 TARCZY KLIKNĄĆ "WEZMĘ UDZIAŁ"\nLISTĘ ZAMYKAMY O 19:00!
ATTACH;FMTTYPE=image/jpeg:https://night4u.pl/wp-content/uploads/2019/08/58
 003_image_68541740_2466769996748286_7703456859683815424_o.jpg
CATEGORIES:wielkopolskie
LOCATION:HAH Poznań\, ul. Małe Garbary 6\, Poznan\, 61-756\, Poland
GEO:52.411608;16.936092
X-APPLE-STRUCTURED-LOCATION;VALUE=URI;X-ADDRESS=ul. Małe Garbary 6\, Pozna
 n\, 61-756\, Poland;X-APPLE-RADIUS=100;X-TITLE=HAH Poznań:geo:52.411608,1
 6.936092
END:VEVENT
BEGIN:VTIMEZONE
TZID:Europe/Warsaw
X-LIC-LOCATION:Europe/Warsaw
BEGIN:DAYLIGHT
DTSTART:20190331T030000
TZOFFSETFROM:+0100
TZOFFSETTO:+0200
TZNAME:CEST
END:DAYLIGHT
END:VTIMEZONE
END:VCALENDAR