BEGIN:VCALENDAR
VERSION:2.0
PRODID:-//wp-events-plugin.com//7.2.3.1//EN
TZID:Europe/Warsaw
X-WR-TIMEZONE:Europe/Warsaw
BEGIN:VEVENT
UID:41110@night4u.pl
DTSTART;TZID=Europe/Warsaw:20200111T210000
DTEND;TZID=Europe/Warsaw:20200111T230000
DTSTAMP:20200111T154739Z
URL:https://night4u.pl/wydarzenia/carbonville-zagra-w-alive/
SUMMARY:Carbonville zagra w Alive!
DESCRIPTION:Historia Carbonville rozpoczęła się w roku 2014 wydaniem sin
 gla One Thousand Megatones\, na którym odsłuchać można dwie piosenki D
 BQ (Dragon Baby Queen) oraz Why I Say It’s You. Prace nad pierwszym albu
 mem mozolnie i z wieloma zwrotami akcji zostały szczęśliwie ukończone 
 dopiero w sierpniu 2019 roku. W tym czasie kapela ciężko pracowała nad 
 charakterem piosenek oraz finalnym brzmieniem wyczekiwanego albumu. W letn
 im oknie transferowym 2017 roku\, do zespołu dołączyło dwóch muzyków
 : Pornel Madetkić – gitary oraz Fiuljusz Fiołkić – bassy. Miłośni
 cy chorwackiego stylu piłki nożnej oraz do niedawna muzycy wrocławskiej
  formacji RedBus wpasowali sie w teksturę muzyczną Carbonville już w pi
 erwszych dniach grania. W letnie dni 2019 roku\, składając hołd cruncho
 wo- grungowej przeszłości muzycznej uszestników\, formacja zdecydowała
  się na finalne brzmienie long playa Grunge Circle zawierającego 12 pios
 enek. Muzyka Carbonville jest oparta na korzennie osadzonej sekcji rytmicz
 nej. Astronomicznie wyrafinowane rytmy otulone są melodyjnie brzmiącym s
 oczyście kwiatowym dźwiękiem basu. Trzonem melodii sterują bezpruderyj
 ne gitary - inspirowane codziennością\, doskonale podkreślające nasyco
 ną grafitem fonie sekcji. Brzmienie strun głosowych Carbonville kreowane
  jest przez charyzmatycznie uformowany\, niespotykany układ synaps mózgo
 wych. Zwarte dźwięki gardła przeplatają się z delikatną emocją nad 
 którą unoszą się polifoniczne i kontrapunktowe głosy będące narracj
 ą niepokoju i melancholii współczesności. W aktualnym składzie Carbon
 ville interpretuje muzycznie teraźniejszość od września 2017r. Kapele 
 tworzą czterej starsi panowie o pseudonimach Fiuliusz Fiołkić\, Rzadko 
 Przychodzić\, Pornel Madetkić\, Hose Hunkić.\n\nhttps://www.facebook.co
 m/CarbonvilleBand/\nhttps://www.youtube.com/watch?v=jabPmsbvlo4\n\n***\n\n
 Bramka 20:00\nStart 21:00\n\n***\n\nBILETY: 15 zł (dostępne w klubie ora
 z w dniu koncertu)
ATTACH;FMTTYPE=image/jpeg:https://night4u.pl/wp-content/uploads/2019/12/12
 7669_image_79531826_2704550079601445_4780199537027317760_o.jpg
CATEGORIES:dolnośląskie
LOCATION:Alive\, ul. Kolejowa 12\, Wroclaw\, 53-508\, Poland
GEO:51.10138;17.02286
X-APPLE-STRUCTURED-LOCATION;VALUE=URI;X-ADDRESS=ul. Kolejowa 12\, Wroclaw\,
  53-508\, Poland;X-APPLE-RADIUS=100;X-TITLE=Alive:geo:51.10138,17.02286
END:VEVENT
BEGIN:VTIMEZONE
TZID:Europe/Warsaw
X-LIC-LOCATION:Europe/Warsaw
BEGIN:STANDARD
DTSTART:20191027T020000
TZOFFSETFROM:+0200
TZOFFSETTO:+0100
TZNAME:CET
END:STANDARD
END:VTIMEZONE
END:VCALENDAR