BEGIN:VCALENDAR
VERSION:2.0
PRODID:-//wp-events-plugin.com//7.2.3.1//EN
TZID:Europe/Warsaw
X-WR-TIMEZONE:Europe/Warsaw
BEGIN:VEVENT
UID:34457@night4u.pl
DTSTART;TZID=Europe/Warsaw:20191123T223000
DTEND;TZID=Europe/Warsaw:20191124T070000
DTSTAMP:20191119T105041Z
URL:https://night4u.pl/wydarzenia/cardio-x-prozak-2-0-3/
SUMMARY:Cardio x Prozak 2.0
DESCRIPTION:Tej nocy do 2.0 powróci Zeppy Zep - pionier gatunku UK Funky w
  Polsce 🔥 Razem ze swoim gośćmi: Rapperoni\, znanych z grania na jedn
 ej scenie z takimi nazwiskami jak FKJ czy San Holo\, oraz naszym rezydente
 m VITem zaserwują Wam prawdziwy trening wytrzymałościowy podczas legend
 arnej już serii CARDIO 💪\n\n[-1] Cardio\nZeppy Zep\nRapperoni (Borucci
  x Kotojeleń)\nzebra\n\nDo 23:00: wejście FREE dla osób “biorących u
 dział” w wydarzeniu.\nPo 23:00: 10/ 20 PLN.\n\n---\n\nThe series of Zep
 py Zep - pioneer of the UK Funky genre in Poland comes back! 🔥 Along wi
 th his guests: Rapperoni\, known for playing on the same stage with such n
 ames as FKJ or San Holo\, and our resident VIT\, they will serve you the r
 eal endurance training during the legendary series CARDIO 💪\n\n[-1] Car
 dio\nZeppy Zep\nRapperoni (Borucci x Kotojeleń)\nzebra\n\nBy 11:00pm: FRE
 E entry for Facebook “going” list.\nAfter 11:00pm: 10/ 20 PLN.
ATTACH;FMTTYPE=image/jpeg:https://night4u.pl/wp-content/uploads/2019/11/89
 146_image_76638501_2591723707555029_3871403522553544704_o.jpg
CATEGORIES:małopolskie
LOCATION:Prozak 2.0\, Plac Dominikański 6\, Kraków\, 31-032\, Poland
GEO:50.058986;19.938203
X-APPLE-STRUCTURED-LOCATION;VALUE=URI;X-ADDRESS=Plac Dominikański 6\, Krak
 ów\, 31-032\, Poland;X-APPLE-RADIUS=100;X-TITLE=Prozak 2.0:geo:50.058986,
 19.938203
END:VEVENT
BEGIN:VTIMEZONE
TZID:Europe/Warsaw
X-LIC-LOCATION:Europe/Warsaw
BEGIN:STANDARD
DTSTART:20191027T020000
TZOFFSETFROM:+0200
TZOFFSETTO:+0100
TZNAME:CET
END:STANDARD
END:VTIMEZONE
END:VCALENDAR