BEGIN:VCALENDAR
VERSION:2.0
PRODID:-//wp-events-plugin.com//7.2.3.1//EN
TZID:Europe/Warsaw
X-WR-TIMEZONE:Europe/Warsaw
BEGIN:VEVENT
UID:42895@night4u.pl
DTSTART;TZID=Europe/Warsaw:20200121T220000
DTEND;TZID=Europe/Warsaw:20200122T040000
DTSTAMP:20200121T041211Z
URL:https://night4u.pl/wydarzenia/carnival-latino-fiesta-by-all-in-uj-teat
 ro-cubano/
SUMMARY:Carnival Latino Fiesta by All In UJ #Teatro Cubano
DESCRIPTION:🕺🏻 Miłośnicy latynoskich rytmów! 🕺🏻\n\nSesja zbl
 iża się wielkimi krokami\, gonią nas egzaminy i zaliczenia!🙈 Jest je
 dnak sposób\, żeby zapomnieć na chwilę o całym stresie i nauce i wylu
 zować się\, jak gdybyście byli na wakacjach!🌴 Przyjdźcie i przekona
 jcie się sami\, że w Teatro Cubano Krakow zapomina się o wszystkich zma
 rtwieniach 🌞🍹\n\nJuż 5 rok z rzędu zapraszamy Was na najbardziej r
 oztańczoną imprezę w Krakowie! 💃🏼 Jak co wtorek przeniesiemy się
  na gorąco Kubę ☀️\, gdzie będziemy popijać zimne Cuba Libre i baw
 ić się przy najlepszych piosenkach 🎶 A to wszystko dzięki Teatro Cub
 ano Krakow\, w którym poczujecie się jak na gorących wakacjach🌴\n
 🎵 \n\nWstęp na imprezę jest #darmowy dla wszystkich z listy gości\, 
 a na barze czekać będą na Was promocje:💸\n\nMuzyka:\nRico Rico Livan
  ElMesias &amp\; Alex Vinent \n\n🍸Piwo\n🍸Cuba Libre\n🍸Mojito\n\nN
 ie zapomnijcie polubić All In UJ🍸 i Impreza All In UJ aby być na bie
 żąco z naszymi wydarzeniami oraz kliknąć 👉🏼WEZMĘ UDZIAŁ 👈
 🏼\, żeby potwierdzić swój udział w imprezie! \n\nDo zobaczenia na p
 arkiecie!
ATTACH;FMTTYPE=image/jpeg:https://night4u.pl/wp-content/uploads/2020/01/13
 6664_image_79736158_1669774636498511_6536914970104299520_n.png
CATEGORIES:małopolskie
LOCATION:Teatro Cubano Krakow - Resto & Rum Bar\, Jagiellońska 10\, Krakó
 w\, 31-010\, Poland
GEO:50.062064;19.934683
X-APPLE-STRUCTURED-LOCATION;VALUE=URI;X-ADDRESS=Jagiellońska 10\, Kraków\
 , 31-010\, Poland;X-APPLE-RADIUS=100;X-TITLE=Teatro Cubano Krakow - Resto 
 & Rum Bar:geo:50.062064,19.934683
END:VEVENT
BEGIN:VTIMEZONE
TZID:Europe/Warsaw
X-LIC-LOCATION:Europe/Warsaw
BEGIN:STANDARD
DTSTART:20191027T020000
TZOFFSETFROM:+0200
TZOFFSETTO:+0100
TZNAME:CET
END:STANDARD
END:VTIMEZONE
END:VCALENDAR