BEGIN:VCALENDAR
VERSION:2.0
PRODID:-//wp-events-plugin.com//7.2.3.1//EN
TZID:Europe/Warsaw
X-WR-TIMEZONE:Europe/Warsaw
BEGIN:VEVENT
UID:2886@night4u.pl
DTSTART;TZID=Europe/Warsaw:20190112T210000
DTEND;TZID=Europe/Warsaw:20190113T060000
DTSTAMP:20190108T150517Z
URL:https://night4u.pl/wydarzenia/carnival-sobota-12-01-claysteer-tocksick
 /
SUMMARY:Carnival // sobota 12.01 // Claysteer & Tocksick
DESCRIPTION:Karnawał!!! wspaniały to czas!!!\nmili Państwo zapraszamy Wa
 s i całe Kielce\nna rozpoczęcie naszego klubowego KARNAWAŁU...\nw iści
 e doborowym towarzystwie\, \nktóre dobrze znacie i kochacie!!!\nSpecjalni
 e dla wszystkich wystąpi \nnasz przyjaciel Claysteer u boku\, którego za
 gra Tocksick\ni gwarantujemy Wam\, że ta mieszanka osobowości\nporwie wa
 sze wszystkie zmysły!!!\n\nZapraszamy kochani!!!
ATTACH;FMTTYPE=image/jpeg:https://night4u.pl/wp-content/uploads/2019/01/99
 10_image_49464934_2008975305816356_5964946586088767488_n.jpg
CATEGORIES:świętokrzyskie
LOCATION:UltraViolet - Exclusive Club\, ul. Sienkiewicza 33\, Kielce\, 25-0
 05\, Poland
GEO:50.87148;20.62637
X-APPLE-STRUCTURED-LOCATION;VALUE=URI;X-ADDRESS=ul. Sienkiewicza 33\, Kielc
 e\, 25-005\, Poland;X-APPLE-RADIUS=100;X-TITLE=UltraViolet - Exclusive Clu
 b:geo:50.87148,20.62637
END:VEVENT
BEGIN:VTIMEZONE
TZID:Europe/Warsaw
X-LIC-LOCATION:Europe/Warsaw
BEGIN:STANDARD
DTSTART:20181028T020000
TZOFFSETFROM:+0200
TZOFFSETTO:+0100
TZNAME:CET
END:STANDARD
END:VTIMEZONE
END:VCALENDAR