BEGIN:VCALENDAR
VERSION:2.0
PRODID:-//wp-events-plugin.com//7.2.3.1//EN
TZID:Europe/Warsaw
X-WR-TIMEZONE:Europe/Warsaw
BEGIN:VEVENT
UID:42524@night4u.pl
DTSTART;TZID=Europe/Warsaw:20200110T210000
DTEND;TZID=Europe/Warsaw:20200112T030000
DTSTAMP:20200111T145026Z
URL:https://night4u.pl/wydarzenia/carnival-weekend-party/
SUMMARY:Carnival Weekend Party
DESCRIPTION:Carnival Weekend Party / Piątek - Sobota / 10-11.01.2020 / Sta
 rt Party 21:00 Zapraszamy!
ATTACH;FMTTYPE=image/jpeg:https://night4u.pl/wp-content/uploads/2020/01/13
 4239_image_82957488_2779214778838369_4511069262693007360_o.jpg
CATEGORIES:dolnośląskie
LOCATION:Kameleon\, Plac Władysława Jagiełły 1\, Kłodzko\, 57-300\, Po
 land
GEO:50.436108;16.650782
X-APPLE-STRUCTURED-LOCATION;VALUE=URI;X-ADDRESS=Plac Władysława Jagiełł
 y 1\, Kłodzko\, 57-300\, Poland;X-APPLE-RADIUS=100;X-TITLE=Kameleon:geo:5
 0.436108,16.650782
END:VEVENT
BEGIN:VTIMEZONE
TZID:Europe/Warsaw
X-LIC-LOCATION:Europe/Warsaw
BEGIN:STANDARD
DTSTART:20191027T020000
TZOFFSETFROM:+0200
TZOFFSETTO:+0100
TZNAME:CET
END:STANDARD
END:VTIMEZONE
END:VCALENDAR