BEGIN:VCALENDAR
VERSION:2.0
PRODID:-//wp-events-plugin.com//7.2.3.1//EN
TZID:Europe/Warsaw
X-WR-TIMEZONE:Europe/Warsaw
BEGIN:VEVENT
UID:6404@night4u.pl
DTSTART;TZID=Europe/Warsaw:20190216T210000
DTEND;TZID=Europe/Warsaw:20190217T050000
DTSTAMP:20190205T171055Z
URL:https://night4u.pl/wydarzenia/carnivibes-natalia-luszczak-16-02-19/
SUMMARY:CarniVIBES // Natalia Łuszczak // 16.02.19
DESCRIPTION:? 16 lutego 2019 - rezerwujcie sobie ten termin już dziś poni
 eważ w UltraViolet Exclusive Club Kielce doznacie wyjątkowych\, karnawa
 łowych klimatów\, które na długo zostaną w Waszych wspomnieniach ???\
 n\nTego wieczoru\, specjalnie dla Was wystąpi Natalia Łuszczak - równie
  piękna co utalentowana\, klubowa wokalistka współpracująca z najlepsz
 ymi Dj'ami. Jej występy na żywo to bomba pozytywnej energii płynąca z 
 miłości do muzyki ❤?\nWokal Natalii w połączeniu z dawką klubowych 
 brzmień od dr Mroczka to coś\, czego nie można przegapić!\n\nCałość
  wydarzenia dopełnią piękne tancerki karnawałowe\, które nie pozwolą
  Wam choć na chwilę oddalić się od parkietu ??\n\nTego wieczoru\, wszy
 stkie drogi prowadzą na Sienkiewicza 33! \nZapraszamy ?\n\nSTART 21:00\nS
 elekcja 23+\nPanie: 10 zł\nPanowie: 20 zł\nRezerwacje: 518-820-320 \n\nK
 lub UltraViolet zastrzega sobie prawo do selekcji Gości.
ATTACH;FMTTYPE=image/jpeg:https://night4u.pl/wp-content/uploads/2019/02/18
 923_image_51631915_2050628014984418_2204289495342252032_n.jpg
CATEGORIES:świętokrzyskie
LOCATION:UltraViolet - Exclusive Club\, ul. Sienkiewicza 33\, Kielce\, 25-0
 05\, Poland
GEO:50.87148;20.62637
X-APPLE-STRUCTURED-LOCATION;VALUE=URI;X-ADDRESS=ul. Sienkiewicza 33\, Kielc
 e\, 25-005\, Poland;X-APPLE-RADIUS=100;X-TITLE=UltraViolet - Exclusive Clu
 b:geo:50.87148,20.62637
END:VEVENT
BEGIN:VTIMEZONE
TZID:Europe/Warsaw
X-LIC-LOCATION:Europe/Warsaw
BEGIN:STANDARD
DTSTART:20181028T020000
TZOFFSETFROM:+0200
TZOFFSETTO:+0100
TZNAME:CET
END:STANDARD
END:VTIMEZONE
END:VCALENDAR