BEGIN:VCALENDAR
VERSION:2.0
PRODID:-//wp-events-plugin.com//7.2.3.1//EN
TZID:Europe/Warsaw
X-WR-TIMEZONE:Europe/Warsaw
BEGIN:VEVENT
UID:28915@night4u.pl
DTSTART;TZID=Europe/Warsaw:20191110T203000
DTEND;TZID=Europe/Warsaw:20191111T050000
DTSTAMP:20200401T084742Z
URL:https://night4u.pl/wydarzenia/casino-night-wallstreet/
SUMMARY:Casino Night @WallStreet
DESCRIPTION:Deszcz kasy 💵 szybkie samochody 🚗luksusowe apartamenty 
 🏛 nielegalne kasyna 🎰 – kto z nas nie chciałby spróbować takieg
 o życia? NIE MA takiej osoby! ⛔️\n\n10 listopada wspólnie z @WAYF za
 praszamy was na Casino Night 🎲 czyli imprezę rodem z Jamesa Bonda! 
 🔫 \n\nCzeka na was prawdziwe luksusowy klimat\, a w nim min. specjalne 
 dekoracje\, money shower oraz kilka ciekawych gier integracyjnych powiąza
 nych z prawdziwym kasynem! 🎰\n\nTej nocy będziecie mogli wspiąć się
  na wyżyny swoich marzeń i przeżyć noc pełną luksusu oraz dobrze si
 ę wybawić na parkiecie! 💃🏼🕺🏼\n\n▪️ Tematyka: Casino Nigh
 t\n▫️ Kiedy: 10 listopada\, niedziela (poniedziałek jest dniem wolnym
 )\n◾️ Gdzie:  Wallstreet Club\n▫️ Muzyka: ----\n◾️ Tax: -----
ATTACH;FMTTYPE=image/jpeg:https://night4u.pl/wp-content/uploads/2019/09/66
 867_image_70513260_417735915544222_8535358202051559424_o.jpg
CATEGORIES:dolnośląskie
LOCATION:Wall Street Club\, Ruska 51\, Wroclaw\, 50-010\, Poland
GEO:51.1104;17.0255
X-APPLE-STRUCTURED-LOCATION;VALUE=URI;X-ADDRESS=Ruska 51\, Wroclaw\, 50-010
 \, Poland;X-APPLE-RADIUS=100;X-TITLE=Wall Street Club:geo:51.1104,17.0255
END:VEVENT
BEGIN:VTIMEZONE
TZID:Europe/Warsaw
X-LIC-LOCATION:Europe/Warsaw
BEGIN:STANDARD
DTSTART:20191027T020000
TZOFFSETFROM:+0200
TZOFFSETTO:+0100
TZNAME:CET
END:STANDARD
END:VTIMEZONE
END:VCALENDAR