BEGIN:VCALENDAR
VERSION:2.0
PRODID:-//wp-events-plugin.com//7.2.3.1//EN
TZID:Europe/Warsaw
X-WR-TIMEZONE:Europe/Warsaw
BEGIN:VEVENT
UID:31191@night4u.pl
DTSTART;TZID=Europe/Warsaw:20191011T200000
DTEND;TZID=Europe/Warsaw:20191012T020000
DTSTAMP:20191009T200155Z
URL:https://night4u.pl/wydarzenia/casino-royale-w-vertigo/
SUMMARY:Casino Royale w Vertigo
DESCRIPTION:Wyjątkowe wieczory w Vertigo powracają. Z okresem jesiennym\,
  chcemy Państwa zaprosić na kolejne spotkanie z legendą. \nBędziecie m
 ogli poczuć klimat największych światowych kasyn\, poznać smak legenda
 rnego koktajlu - Martini\, wstrząśnięte niemieszane!\n\nW czasie wieczo
 ru na naszej scenie zagra zespół\, który powstał specjalnie po to żeb
 y występować na scenie Vertigo. Największe przeboje znane z radia oraz 
 z filmowych hitów\, we wspaniałych jazzowych aranżacjach to Vertigo Ban
 d\, który poprowadzi wokalistka Natalia Szczypuła.\nSkład: \nPiotr Trel
 iński – gitara\, \nŻenia Betliński – bas\, \nTomasz Orłowski– tr
 ąbka\, \nJarek Korzonek – perkusja\, \nMateusz Witkowski – instrument
 y klawiszowe\, \nKarol Wieczorek – saksofon tenorowy\,\nJanek Kantner 
 – saksofon barytonowy.\n\nNasi barmani przygotują specjalnie dla Państ
 wa odpowiednie cocktaile\, w lokalu znajdziecie Państwo stoły do gry\, p
 rzygotujemy również liczne niespodzianki.\n\nZachęcamy do przybycia do 
 Vertigo w strojach cocktailowych.\n\nRezerwacje miejsc w klubie: emenago.c
 om/i/vertigojazz
ATTACH;FMTTYPE=image/jpeg:https://night4u.pl/wp-content/uploads/2019/10/72
 501_image_70335489_2371459546443297_3589531836893626368_o.jpg
CATEGORIES:dolnośląskie
LOCATION:Vertigo Jazz Club & Restaurant\, Oławska 13\, Wroclaw\, 53-125\, 
 Poland
GEO:51.10835;17.03537
X-APPLE-STRUCTURED-LOCATION;VALUE=URI;X-ADDRESS=Oławska 13\, Wroclaw\, 53-
 125\, Poland;X-APPLE-RADIUS=100;X-TITLE=Vertigo Jazz Club & Restaurant:geo
 :51.10835,17.03537
END:VEVENT
BEGIN:VTIMEZONE
TZID:Europe/Warsaw
X-LIC-LOCATION:Europe/Warsaw
BEGIN:DAYLIGHT
DTSTART:20190331T030000
TZOFFSETFROM:+0100
TZOFFSETTO:+0200
TZNAME:CEST
END:DAYLIGHT
END:VTIMEZONE
END:VCALENDAR