BEGIN:VCALENDAR
VERSION:2.0
PRODID:-//wp-events-plugin.com//7.2.3.1//EN
TZID:Europe/Warsaw
X-WR-TIMEZONE:Europe/Warsaw
BEGIN:VEVENT
UID:6830@night4u.pl
DTSTART;TZID=Europe/Warsaw:20190322T200000
DTEND;TZID=Europe/Warsaw:20190323T000000
DTSTAMP:20190210T152459Z
URL:https://night4u.pl/wydarzenia/ch-d-tour-22-iii-wroclaw-dmd-koios-sickn
 est-heretique/
SUMMARY:CH - D Tour / 22 III / Wrocław: DMD/KOIOS/SickNest/Heretique
DESCRIPTION:Bilety: 20 PLN\nStart 20:00\n\nKOIOS powstał w 2013 r. z inicj
 atywy Pawła Sitnickiego i Jana Domańskiego. Charakter zespołu ostateczn
 ie skrystalizował się po objęciu stanowiska wokalisty przez Filipa Piku
 lskiego i dopełnił dzięki partiom gitarowym Rafała Nowakowskiego i bra
 wurowej grze perkusisty Pawła Solona . Styl muzyczny KOIOS porusza się p
 o ekstremalnych odmianach metalu takich jak death metal\, melodic death\, 
 czy progressive death metal. Zespół otrzymał wiele nagród na festiwala
 ch takich jak Generacja\, Error\, Rock Battle of Barcja\, Rock Master\, Ma
 yday\, czy FMB. Swoją debiutancką płytę „Triangulate the Triangle”
  promował supportując takie zespoły jak Hunter\, Sadist\, Antigama\, Th
 y Disease\, TSA\, czy Symbolical. W grudniu 2017r. miała miejsce premiera
 \, oficjalnego video do utworu „Hate?”. Klip otrzymał nagrodę za naj
 lepszą reżyserię oraz specjalne wyróżnienie na festiwalu Figueira Fil
 mArt-Festival w Portugalii\, oraz nominacje na festiwalach BMVA w Berlinie
  oraz L.A. Music Video Awards w Los Angeles.\n\nCzłonkowie zespołu:\nFil
 ip Pikulski - vocals\nPaweł Sitnicki - guitars\nRafał Nowakowski - guita
 rs\nJanek Domański - bass\nPaweł Solon - drums\n\n\nFB Koios: \nhttps://
 www.facebook.com/koiosmusic/\n\nKOIOS - Hate? - https://www.youtube.com/wa
 tch?v=A7hodfc3TZE\n\nSpotify: https://open.spotify.com/album/2DrLZFM2Np5sU
 geFzRHNEu?si=cZcPoJb_RXarz7HyDCCxIQ&fbclid=IwAR1_MT8TWUdVkOD9LGCDQMigzydT4
 1zt_AmUz591O-8SZEKesLLC48sVyO4\n\n****************************************
 *********************\n\nDROWN MY DAY - Kraków \nhttps://www.youtube.com/
 user/DrownMyDay\nhttps://www.facebook.com/drownmyday\nhttps://drownmyday.b
 andcamp.com\n\nJednym z headlinerów trasy Chaos Defined Tour 2019 będzie
  krakowski Drown My Day. Powstała w 2006 roku grupa proponuje miksturę d
 jentu\, deathcore'a\, technicznego death metalu oraz hard core'a. Konkretn
 iej\, potężny growl\, liczne zmiany tempa oraz coś\, co najlepiej oddaj
 e słowo "groove". Krakowska załoga może się pochwalić graniem przed V
 ader\, Dying Fetus\, Hatebreed\, Stick To Your Guns\, Decapitated\, Fronts
 ide\, Totem czy Caliban. \n\nnajważniejsze fakty\n2008 - publikacja EP "O
 ne Step Away From Silence"\n2012 - produkcja studyjna debiutanckiego album
 u "Confessions"\n2013 - współpraca z NOIZGATE Records\n2013 - wydanie "L
 P" Confessions\n2016 - wydanie EP "Nightmare Becomes Reality"\n2018 - wyda
 nie LP "The Ghost Tales"\n\n\nDROWN MY DAY\nMaciek Korczak - wokal\nSergiu
 sz Smolnicki - gitara\nSławomir Wojtas - gitara\nArkadiusz Antosz - bas\n
 Kuba Homik - perkusja\n\n\n"Battle Royale"\nhttps://www.youtube.com/watch?
 v=aceaX8dVkD4\n\n\n*******************************************************
 *********\n\n\nSICKNEST - Katowice / Sosnowiec \nhttps://www.youtube.com/u
 ser/Sicknestofficial\nhttps://www.facebook.com/SickNest.official/\nhttp://
 www.reverbnation.com/sicknest\n\nZespół SickNest powstał w styczniu 201
 1 roku.\nPrzyjęta nazwa odzwierciedla to co dzieje się muzycznie wewnąt
 rz zespołu. \n\nKażdy z nas jest oryginalny w swój szalony sposób\, kt
 óry daje możliwość stworzenia niepowtarzalnej muzyki. \n\nW 2012 roku 
 zespół nagrał demo\, gdzie zostały umieszczone dwa zupełnie różne m
 uzycznie utwory\, pokazujące potencjał grupy. \nMateriał został dobrze
  przyjęty o czym świadczą recenzje\, frekwencja na koncertach oraz zapr
 oszenia do supportowania m.in. Jelonka\, Kata oraz Turbo.\n\nPod koniec ro
 ku 2014 zakończyły się prace nad pierwszym pełnym albumem\, który nos
 i tytuł Reality Imprisoned. \n\n8 mocno progresywnych utworów inspirowan
 ych wieloma gatunkami metalu\, które zawierają również dozę innych st
 ylów muzycznych. \n\nGłównym założeniem był brak ograniczeń w tworz
 eniu muzyki. \nPo serii koncertów w towarzystwie legend polskiej i zagran
 icznej sceny metalu\, zespół opuszcza Hipis\, którego miejsce zastępuj
 e Krzysztof "Mazi" Mazurek. \n\nRozpoczynają się prace nad kolejnym albu
 m. Tymczasem zespół opuszcza wokalista Pilot\, którego miejsce po dług
 ich miesiącach poszukiwań zajmuje Michal "Ever" Ewertowski.\n\n22 lutego
  2019 roku ukaże się drugi album zatytuowany " Chaos Defined".\n\n\n****
 ***********************************************************\n\n\nHERETIQUE
 \n Projekt zrodził się z początkiem roku 2007 z inicjatywy Grzegorza "C
 elej'a" Celejewskiego - gitara (kiedyś Mortuary) i Jacka Wołoszczuka - b
 as (ex. Vox Interium). Kilka tygodni później za mikrofonem pojawia się 
 Marek Szubert "Strzyga"\, którego potężny growl i opętańcze screamy n
 iejako ukierunkowuje zespół muzycznie. Zaczynają się pierwsze próby i
  werbowanie pozostałej ekipy\, co w niedługim czasie i po selekcji kilku
  kandydatów przynosi efekt w postaci wykrystalizowania się składu\; a w
 ięc funkcje gitary solowej obejmuje Piotrek "Peter" Odrobina a za bateri
 ą zasiada Radek "Czaszka" Muzyka. W tym skladzie powstają pierwsze spój
 ne kompozycje. ..\n\nNa początku 2008 roku odchodzi Jacek i zakłada Stay
  Heavy a jego miejsce zajmuje Wojtek Zydroń. Po zmianach personalnych zes
 pół poświęca cały rok na tworzenie materiału i koncertowanie w lokal
 nych spelunach ku uciesze miejscowej gawiedzi. Pod koniec roku rozpoczęte
  zostały nagrania materiału demo zatytuowanego .."Primal Blasphemy"..\, 
 a realizacja tego projektu zakończyła się w lutym 2009\; w bardzo skrom
 nych warunkach zarejestrowano 7 utworów w tym cover szwedzkiego In Flames
  "Lord Hypnos". \nW tymże roku grupa postanawia zakosztować trunków w n
 ieco bardziej odległych spelunach i wraz z zespołem Vates rusza w mini t
 rasę grając w Katowicach\, Częstochowie\, Krakowie\, Cieszynie\, kończ
 ąc wojaże na festiwalu "Metal Park 2009" w Tarnowskich Górach jako jede
 n z oddziałów kawalerii Szatana przed koncertem legendarnego Turbo...\nK
 ilka tygodni później zespół opuszcza Czaszka\, którego zastępuje Grz
 egorz "Igor" Piszczek\, wcześniej perkusista Orion Prophecy. Igor bardzo 
 szybko przechodzi zaprawę bojową na koncertach z Kat & Roman Kostrzewski
 \, Horrorscope\, Iscariota\, po których zostaje wcielony na stałe w rzes
 ze Heretyków... \n\nRok 2010 zespół poświęca głównie koncertom\, ma
 jąc zaszczyt dzielić sceniczne deski z takimi zespołami jak Kat & Roman
  Kostrzewski\, Witchmaster\, Horrorscope\, Azarath\, Dual-Coma\, Impaled N
 azarene czy Moulded Flesh.\n\nW 2011 roku Heretique rozpoczyna nagrania ko
 lejnego materiału zatytuowanego "Ore Veritatis"\, ścieżki instrumentów
  zostały zarejestrowane i zmiksowane w rybnickim studio "NoFearRecords"\n
 Postprodukcją zajął się Piotr Nowak (założyciel gliwickiego Vox Inte
 rium).\nRozmowy z wydawcą zostały zakończone i płyta ujrzała światł
 o dzienne\,\n\nObecnie członkowie zespołu udzielają się w innych proje
 ktach\, ale nadal znajdują czas\, na uświetnienie swoją obecnością r
 óżnych wydarzeń\, zarówno lokalnych\, jak i tych poza Śląskiem.
ATTACH;FMTTYPE=image/jpeg:https://night4u.pl/wp-content/uploads/2019/02/19
 944_image_50745220_951530308380094_6285437552522428416_o.jpg
CATEGORIES:dolnośląskie
LOCATION:Alive\, ul. Kolejowa 12\, Wroclaw\, 53-508\, Poland
GEO:51.10138;17.02286
X-APPLE-STRUCTURED-LOCATION;VALUE=URI;X-ADDRESS=ul. Kolejowa 12\, Wroclaw\,
  53-508\, Poland;X-APPLE-RADIUS=100;X-TITLE=Alive:geo:51.10138,17.02286
END:VEVENT
BEGIN:VTIMEZONE
TZID:Europe/Warsaw
X-LIC-LOCATION:Europe/Warsaw
BEGIN:STANDARD
DTSTART:20181028T020000
TZOFFSETFROM:+0200
TZOFFSETTO:+0100
TZNAME:CET
END:STANDARD
END:VTIMEZONE
END:VCALENDAR