BEGIN:VCALENDAR
VERSION:2.0
PRODID:-//wp-events-plugin.com//7.2.3.1//EN
TZID:Europe/Warsaw
X-WR-TIMEZONE:Europe/Warsaw
BEGIN:VEVENT
UID:50696@night4u.pl
DTSTART;TZID=Europe/Warsaw:20200816T150000
DTEND;TZID=Europe/Warsaw:20200816T170000
DTSTAMP:20200816T115733Z
URL:https://night4u.pl/wydarzenia/charytatywne-bingo-x-stara-odra-x-stock/
SUMMARY:Charytatywne Bingo X Stara Odra X Stock
DESCRIPTION:Nasze pierwsze Bingo na Starej spotkało się z lawiną pozytyw
 nych komentarzy i dlatego postanowiliśmy to powtarzać! \n\nStara Odra St
 ock zaprasza Was ponownie do zabawy i gry o nagrody z naszego baru! \n\nZa
  5 złotych zakupujecie przy barze kupon\, który bierze udział w rozgryw
 ce! \nPodczas losowania Bingo wygrywa osoba\, która jako pierwsza skreśl
 i Małe Bingo (cyfry i liczby w jednym rzędzie) oraz Duże Bingo czyli pi
 erwsza osoba\, która skreśli wszystko na swoim kuponie! \n\nNagrodą za 
 Małe Bingo jest wybrany drink na barze\, a nagrodą główną za Duże Bi
 ngo jest butelka Prosecco! \n\nCała zbiórka zostanie przeznaczona na rze
 cz Fundacji "Wrocławskie Hospicjum dla Dzieci".
ATTACH;FMTTYPE=image/jpeg:https://night4u.pl/wp-content/uploads/2020/08/18
 4684_image_116878964_2626746514231850_7489899112120689623_n.jpg
CATEGORIES:dolnośląskie
LOCATION:Stara Odra Beach Bar\, Zawalna\, Wroclaw\, 51-118\, Poland
GEO:51.134179;17.039449
X-APPLE-STRUCTURED-LOCATION;VALUE=URI;X-ADDRESS=Zawalna\, Wroclaw\, 51-118\
 , Poland;X-APPLE-RADIUS=100;X-TITLE=Stara Odra Beach Bar:geo:51.134179,17.
 039449
END:VEVENT
BEGIN:VTIMEZONE
TZID:Europe/Warsaw
X-LIC-LOCATION:Europe/Warsaw
BEGIN:DAYLIGHT
DTSTART:20200329T030000
TZOFFSETFROM:+0100
TZOFFSETTO:+0200
TZNAME:CEST
END:DAYLIGHT
END:VTIMEZONE
END:VCALENDAR