BEGIN:VCALENDAR
VERSION:2.0
PRODID:-//wp-events-plugin.com//7.2.3.1//EN
TZID:Europe/Warsaw
X-WR-TIMEZONE:Europe/Warsaw
BEGIN:VEVENT
UID:41062@night4u.pl
DTSTART;TZID=Europe/Warsaw:20200117T210000
DTEND;TZID=Europe/Warsaw:20200118T040000
DTSTAMP:20200331T192119Z
URL:https://night4u.pl/wydarzenia/charytatywnie-gramy-dla-uli-%e2%98%85-wa
 ll-street-club/
SUMMARY:Charytatywnie Gramy Dla Uli ★ Wall Street Club
DESCRIPTION:Ula\, żona naszego przyjaciela potrzebuje naszego wsparcia! Po
 móżmy jej wygrać walkę z rakiem.\n\nZ tej okazji przygotowaliśmy impr
 ezę charytatywną z wspaniałymi gośćmi\, którzy już 17 stycznia stan
 ą za konsolą klubu Wall Street we Wrocławiu.\n\nWspólnie pokażmy że 
 rak to nie wyrok i potrafimy go razem zwyciężyć. Przez całą noc rozst
 awione będą puszki\, do których będziecie mogli wrzucać pieniądze na
  rzecz walki z chorobą.\nAle już teraz możecie wspierać Ulę pod linki
 em:\nhttps://zrzutka.pl/brzhcx\n\nLine up :\n\n▶ Clubbasse\n▶ Vincent 
 Vik\n▶ Djluki\n▶ DJ MATTI\n▶ Blinker\n▶ Golden Nose\n▶ DENLINE\n
 \nUdostępniajcie wydarzenie\, pokażmy że razem możemy więcej! \n\nSta
 rt: 21:00\n📞 Rezerwacja stolików: + 48 605 208 483\n💻 lub online: h
 ttp://tinyurl.com/RezerwacjaWallStreet
ATTACH;FMTTYPE=image/jpeg:https://night4u.pl/wp-content/uploads/2019/12/12
 7536_image_80014362_2484790208405973_5445083662976548864_n.jpg
CATEGORIES:dolnośląskie
LOCATION:Wall Street Club\, Ruska 51\, Wroclaw\, 50-010\, Poland
GEO:51.1104;17.0255
X-APPLE-STRUCTURED-LOCATION;VALUE=URI;X-ADDRESS=Ruska 51\, Wroclaw\, 50-010
 \, Poland;X-APPLE-RADIUS=100;X-TITLE=Wall Street Club:geo:51.1104,17.0255
END:VEVENT
BEGIN:VTIMEZONE
TZID:Europe/Warsaw
X-LIC-LOCATION:Europe/Warsaw
BEGIN:STANDARD
DTSTART:20191027T020000
TZOFFSETFROM:+0200
TZOFFSETTO:+0100
TZNAME:CET
END:STANDARD
END:VTIMEZONE
END:VCALENDAR