BEGIN:VCALENDAR
VERSION:2.0
PRODID:-//wp-events-plugin.com//7.2.3.1//EN
TZID:Europe/Warsaw
X-WR-TIMEZONE:Europe/Warsaw
BEGIN:VEVENT
UID:50944@night4u.pl
DTSTART;TZID=Europe/Warsaw:20210910T190000
DTEND;TZID=Europe/Warsaw:20210910T190000
DTSTAMP:20210908T144906Z
URL:https://night4u.pl/wydarzenia/chatka-blues-festival-2021/
SUMMARY:Chatka Blues Festival 2021
DESCRIPTION:10. września Chatka Blues Festival zagra po raz 11. na scenie 
 kultowej Chatki Żaka!\n\nFani bluesa usłyszą na żywo wyjątkowych\, bl
 uesowych artystów z Polski i zagranicy.   Tradycyjnie koncerty #CHBF 
 to mieszanka różnych odcieni bluesa i połączenie klasyki z nowoczesno
 ścią. To będzie niesamowita dawka tradycyjnego bluesa w wykonaniu Pawł
 a Szymańskiego\, energetycznego bluesa z domieszką soulu i boogie prosto
  od Smooth Gentlemen\, jak również klasycznego bluesa z wpływami latino
  w wykonaniu argentyńskiej artystki Vanesy Harbek!\n\n--&gt\; FESTIWAL RE
 ALIZOWANY JEST PRZY WSPARCIU FINANSOWYM MIASTA LUBLIN &lt\;--\n\nProgram:\
 n\n10.09.2021 (piątek)\, godz. 19:00   ACKiM UMCS Chatka Żaka\n•	Pawe
 ł Szymański  \n•	Smooth Gentlemen\n•	Vanesa Harbek (Argentyna)\n\nWi
 ęcej informacji: www.chatkablues.pl\n\nKUP BILET ONLINE: https://www.ebil
 et.pl/muzyka/jazz-blues/chatka-blues-festival/
ATTACH;FMTTYPE=image/jpeg:https://night4u.pl/wp-content/uploads/2021/08/18
 6079_image_230012759_4139163449537211_3567803401065542276_n.jpg
CATEGORIES:lubelskie
LOCATION:ACKiM UMCS Chatka Żaka\, Idziego Radziszewskiego 16\, Lublin\, 20
 -031\, Poland
GEO:51.245269;22.538173
X-APPLE-STRUCTURED-LOCATION;VALUE=URI;X-ADDRESS=Idziego Radziszewskiego 16\
 , Lublin\, 20-031\, Poland;X-APPLE-RADIUS=100;X-TITLE=ACKiM UMCS Chatka Ż
 aka:geo:51.245269,22.538173
END:VEVENT
BEGIN:VTIMEZONE
TZID:Europe/Warsaw
X-LIC-LOCATION:Europe/Warsaw
BEGIN:DAYLIGHT
DTSTART:20210328T030000
TZOFFSETFROM:+0100
TZOFFSETTO:+0200
TZNAME:CEST
END:DAYLIGHT
END:VTIMEZONE
END:VCALENDAR