BEGIN:VCALENDAR
VERSION:2.0
PRODID:-//wp-events-plugin.com//7.2.3.1//EN
TZID:Europe/Warsaw
X-WR-TIMEZONE:Europe/Warsaw
BEGIN:VEVENT
UID:44723@night4u.pl
DTSTART;TZID=Europe/Warsaw:20200130T210000
DTEND;TZID=Europe/Warsaw:20200131T040000
DTSTAMP:20200331T181814Z
URL:https://night4u.pl/wydarzenia/cherryczwartki-ft-spisek-jednego-x-novic
 ky-lista-fb-free/
SUMMARY:CherryCzwartki ft. Spisek Jednego x Novicky / Lista fb free*
DESCRIPTION:#CherryCzwartki\, czyli kontynuacja naszego najnowszego cyklu C
 herry CLUB Wrocław! 🍒\n\nCo czwartek sprawdzamy\, co w muzyce dobrego 
 i świeżego\, bez podziału na gatunki. Pomogą nam w tym Wasi ulubieni D
 Je i artyści podczas swoich setów i występów.\n\n30.01 zagrają dla Wa
 s:\n\n🎵 Spisek Jednego - DJ i producent\, którego nie trzeba nikomu pr
 zedstawiać. Robił beaty dla schafter\, Otsochodzi czy FLIRTINI. Prawdziw
 y człowiek orkiestra i przewodnik dobrej zabawy.\n\n🎵 DJ Novicky - zna
 ny i lubiany zawodnik\, od lat związany z wrocławską sceną. Koneser do
 brych trunków i najlepszej muzycznej selekcji.\n\nIdziemy o zakład\, że
  z parkietu nie zejdziecie do rana! 😏\n \n\nDla pierwszych 100 osób ZI
 MNE PIWO 🍺 za free! Promocje na barze przez całą noc. \n ____________
 __________________________________\n \n 📅 30.01.2020\n ⏰ Start o 21:0
 0\n 📌Cherry CLUB Wrocław\n 🎟️ Wstęp:\n Lista fb free do 23:59\n 
 Studenci: 5zł\n Pozostali: 10zł
ATTACH;FMTTYPE=image/jpeg:https://night4u.pl/wp-content/uploads/2020/01/14
 4718_image_83867001_2625295420841347_268766228611334144_o.jpg
CATEGORIES:dolnośląskie
LOCATION:Cherry CLUB Wrocław\, Wroclaw\, Poland
GEO:51.110983;17.033849
X-APPLE-STRUCTURED-LOCATION;VALUE=URI;X-ADDRESS=Wroclaw\, Poland;X-APPLE-RA
 DIUS=100;X-TITLE=Cherry CLUB Wrocław:geo:51.110983,17.033849
END:VEVENT
BEGIN:VTIMEZONE
TZID:Europe/Warsaw
X-LIC-LOCATION:Europe/Warsaw
BEGIN:STANDARD
DTSTART:20191027T020000
TZOFFSETFROM:+0200
TZOFFSETTO:+0100
TZNAME:CET
END:STANDARD
END:VTIMEZONE
END:VCALENDAR