BEGIN:VCALENDAR
VERSION:2.0
PRODID:-//wp-events-plugin.com//7.2.3.1//EN
TZID:Europe/Warsaw
X-WR-TIMEZONE:Europe/Warsaw
BEGIN:VEVENT
UID:48442@night4u.pl
DTSTART;TZID=Europe/Warsaw:20200229T213000
DTEND;TZID=Europe/Warsaw:20200301T050000
DTSTAMP:20200229T182902Z
URL:https://night4u.pl/wydarzenia/chivas-xv-ponydisco-dred/
SUMMARY:Chivas XV / Ponydisco &amp\; Dred
DESCRIPTION:W najbliższą sobotę przygotujcie się na prawdziwą petardę
  🔥\nTego wieczoru stery w naszym klubie przejmie dwóch niezwykle chary
 zmatycznych artystów! 😃\nDo tańca zaprosi Nas niewątpliwy house'owy 
  wyjadacz 👌\, czyli  PONYDISCO🎧 \, który tego wieczoru dj'kę dziel
 ić będzie z naszym  turntablistycznym świrem 😈 - Dredem🎧 Czekamy 
 z niecierpliwością na to niezwykle energetyczne połączenie 😍\nO Was
 ze podniebienia jak zawsze zadbają Nasi barmani i ich pyszne koktajle! 
 🍸🍹🥂\nDo zobaczenia przy barze 😉\n\nStart:21:30🕤\nMusic: Dj 
 Ponydisco™️ &amp\; Dred🎧 \nDress Code / Door Selection👔
CATEGORIES:małopolskie
LOCATION:Le Scandale Zakopane\, Zaruskiego 5 · Zakopane\, Zakopane\, 34-50
 0\, Poland
GEO:49.294475;19.950227
X-APPLE-STRUCTURED-LOCATION;VALUE=URI;X-ADDRESS=Zaruskiego 5 · Zakopane\, 
 Zakopane\, 34-500\, Poland;X-APPLE-RADIUS=100;X-TITLE=Le Scandale Zakopane
 :geo:49.294475,19.950227
END:VEVENT
BEGIN:VTIMEZONE
TZID:Europe/Warsaw
X-LIC-LOCATION:Europe/Warsaw
BEGIN:STANDARD
DTSTART:20191027T020000
TZOFFSETFROM:+0200
TZOFFSETTO:+0100
TZNAME:CET
END:STANDARD
END:VTIMEZONE
END:VCALENDAR