BEGIN:VCALENDAR
VERSION:2.0
PRODID:-//wp-events-plugin.com//7.2.3.1//EN
TZID:Europe/Warsaw
X-WR-TIMEZONE:Europe/Warsaw
BEGIN:VEVENT
UID:30035@night4u.pl
DTSTART;TZID=Europe/Warsaw:20200130T210000
DTEND;TZID=Europe/Warsaw:20200131T000000
DTSTAMP:20191019T143821Z
URL:https://night4u.pl/wydarzenia/chmara-kmr-czwartki-w-surowcu-10/
SUMMARY:Chmara kmr - czwartki w Surowcu
DESCRIPTION:Bzy. bzy.\nSezon plenerowy za nami\, czas wejść w mury. \nDos
 taliśmy miejsce i termin by spotykać się przy dobrej muzyce w naszym st
 ałym towarzystwie oraz poznać nowych ludzi.\nCałą ekipą KMR Sound Sys
 tem będziemy grać w klubo-galerii Surowiec.\nNa każdym naszym spotkaniu
  będzie przynajmniej jeden zaproszony gość\, którego wybieramy z naszy
 ch Polskich kręgów i nie tylko.\nNa początek zaprosiliśmy:\n\nVeroniqu
 e: to zacięta i bezkompromisowa djka\, świeża producentka oraz ambitna 
 promotorka z Poznania. Założycielka kolektywu i labelu The Meaning Of Ra
 ve oraz cyklu imprez Femme Fatale PL. Od 4 roku życia mocno związana z m
 uzyką. Wokalistka\, pianistka oraz gitarzystka\, po szkole teatralnej. Sw
 oją miłość do elektroniki odkryła 3 lata temu. Dj-ką z rejwerki sta
 ła się 2 lata temu\, ale zdążyła zadebiutować już w większości kl
 ubów w Polsce czy u boku takich osobistości jak I Hate Models\, stranger
  czy Héctor Oaks. W tym roku zadebiutowała w Tresor.Berlin (OFFICIAL)\, 
 Griessmuehle (Berlin)\, na Litwie\, w Londynie czy Bordeaux. W jej setach 
 możecie usłyszeć wyraźne i mocne uderzenia stopy przeplecione z indust
 rialnymi dźwiękami i emocjonalną melodią. Nie zamyka się wokół jedn
 ego podgatunku techno\, dzięki czemu jej eklektyczne sety tworzą pewnego
  rodzaju wciągającą opowieść.\n \n\nZmieniło się dużo zaczynając 
 od nagłośnienia po  wystrój. Niezmienna została dobra zabawa i Pozytyw
 na energia.
CATEGORIES:dolnośląskie
LOCATION:Surowiec\, Ruska 46A\, Wroclaw\, 50-079\, Poland
GEO:51.11037;17.02447
X-APPLE-STRUCTURED-LOCATION;VALUE=URI;X-ADDRESS=Ruska 46A\, Wroclaw\, 50-07
 9\, Poland;X-APPLE-RADIUS=100;X-TITLE=Surowiec:geo:51.11037,17.02447
END:VEVENT
BEGIN:VTIMEZONE
TZID:Europe/Warsaw
X-LIC-LOCATION:Europe/Warsaw
BEGIN:STANDARD
DTSTART:20191027T020000
TZOFFSETFROM:+0200
TZOFFSETTO:+0100
TZNAME:CET
END:STANDARD
END:VTIMEZONE
END:VCALENDAR