BEGIN:VCALENDAR
VERSION:2.0
PRODID:-//wp-events-plugin.com//7.2.3.1//EN
TZID:Europe/Warsaw
X-WR-TIMEZONE:Europe/Warsaw
BEGIN:VEVENT
UID:18338@night4u.pl
DTSTART;TZID=Europe/Warsaw:20190607T200000
DTEND;TZID=Europe/Warsaw:20190608T050000
DTSTAMP:20190605T205403Z
URL:https://night4u.pl/wydarzenia/chodz-do-ostro_kemot/
SUMMARY:Chodź Do OSTRO_@Kemot
DESCRIPTION:Czołem !\n\nJuż w piątek widzimy się na wieczorze pełnym h
 ouse'u ! Tym razem kawałki puszczać będzie Kemot ! Za barem nasz niezaw
 odny skład zawalczy o Wasze cocktailowe serca ! Do tego szykuję się pi
 ękna pogoda więc zapraszamy na nasz ogródek.\n\nDo zobaczenia na Krakow
 skim 25 !\n\nSTART 20:00\nDJ: Kemot
ATTACH;FMTTYPE=image/jpeg:https://night4u.pl/wp-content/uploads/2019/06/44
 303_image_62011659_1098141457040178_7430391738176372736_o.jpg
CATEGORIES:lubelskie
LOCATION:OSTRO\, ul. Krakowskie Przedmieście 25\, Lublin\, 20-002\, Poland
GEO:51.24798;22.56254
X-APPLE-STRUCTURED-LOCATION;VALUE=URI;X-ADDRESS=ul. Krakowskie Przedmieści
 e 25\, Lublin\, 20-002\, Poland;X-APPLE-RADIUS=100;X-TITLE=OSTRO:geo:51.24
 798,22.56254
END:VEVENT
BEGIN:VTIMEZONE
TZID:Europe/Warsaw
X-LIC-LOCATION:Europe/Warsaw
BEGIN:DAYLIGHT
DTSTART:20190331T030000
TZOFFSETFROM:+0100
TZOFFSETTO:+0200
TZNAME:CEST
END:DAYLIGHT
END:VTIMEZONE
END:VCALENDAR