BEGIN:VCALENDAR
VERSION:2.0
PRODID:-//wp-events-plugin.com//7.2.3.1//EN
TZID:Europe/Warsaw
X-WR-TIMEZONE:Europe/Warsaw
BEGIN:VEVENT
UID:24659@night4u.pl
DTSTART;TZID=Europe/Warsaw:20190814T220000
DTEND;TZID=Europe/Warsaw:20190815T050000
DTSTAMP:20190815T220704Z
URL:https://night4u.pl/wydarzenia/chodz-na-moment/
SUMMARY:Chodź na Moment.
DESCRIPTION:Ostatni długi weekend tych wakacji - trzeba więc godnie rozpo
 cząć czas wydłużonej laby! Boisz się\, że impreza pokrzyżuje Ci pla
 ny CHODŹ NA MOMENT.\nz nami wszystko będzie dobrze!\n\nZagra Moment. nas
 z nowy adept radosych i tanecznych brzmień\n\nREZERWACJE:\nOliwia 504 989
  948\nhttp://bit.ly/1NsNghc\n\nStart: 22.00\nwstęp:20 PLN\nkarty klubowe 
 wejście FREE\, \nlista FB do 23.00 wejście FREE*\nwstęp od 18 lat\nsele
 kcja\n*wejście do klubu na listę fb jest jednorazowe w ciągu danej impr
 ezy\, ponowny wstęp wiąże się z opłatą za wejście\, listę zamykamy
  o 21\n\n\nZAPRASZAMY!\n\n------------------------------------------------
 --------\n\nFOR TABLE RESERVATIONS PLEASE RSVP AT :\nOliwia 504 989 948\nh
 ttp://bit.ly/1NsNghc\n\nWe're open from 10pm\nTickets  20 PLN\nClub cards 
 - free entry all night\nFacebook list - one-time free entrance from 10 pm 
 to 11 pm (we close the list at 9 pm\, so don’t forget to join the fb eve
 nt before!)\nYou must be 18 years old to get in\n**selection - our club re
 serves the right to deny entry at selector discretion.\nPokaż mniej
ATTACH;FMTTYPE=image/jpeg:https://night4u.pl/wp-content/uploads/2019/08/57
 987_image_68443985_2919913268025747_8442366928822992896_n.jpg
CATEGORIES:wielkopolskie
LOCATION:Klub Czekolada Poznań\, Poznan\, Poland
GEO:52.40609;16.93264
X-APPLE-STRUCTURED-LOCATION;VALUE=URI;X-ADDRESS=Poznan\, Poland;X-APPLE-RAD
 IUS=100;X-TITLE=Klub Czekolada Poznań:geo:52.40609,16.93264
END:VEVENT
BEGIN:VTIMEZONE
TZID:Europe/Warsaw
X-LIC-LOCATION:Europe/Warsaw
BEGIN:DAYLIGHT
DTSTART:20190331T030000
TZOFFSETFROM:+0100
TZOFFSETTO:+0200
TZNAME:CEST
END:DAYLIGHT
END:VTIMEZONE
END:VCALENDAR