BEGIN:VCALENDAR
VERSION:2.0
PRODID:-//wp-events-plugin.com//7.2.3.1//EN
TZID:Europe/Warsaw
X-WR-TIMEZONE:Europe/Warsaw
BEGIN:VEVENT
UID:39185@night4u.pl
DTSTART;TZID=Europe/Warsaw:20191226T220000
DTEND;TZID=Europe/Warsaw:20191227T090000
DTSTAMP:20191226T103522Z
URL:https://night4u.pl/wydarzenia/christmas-days-party-i-i-ii-dzien-swiat-
 %e2%9c%b6/
SUMMARY:Christmas Day's Party! I i II dzień świąt ✶
DESCRIPTION:.
ATTACH;FMTTYPE=image/jpeg:https://night4u.pl/wp-content/uploads/2019/12/11
 4746_image_76990432_2573523409352042_7778547143014350848_o-6.jpg
CATEGORIES:zachodniopomorskie
LOCATION:Boston Pub\, ul. Niepodległości 22\, Szczecin\, 70-412\, Poland
GEO:53.42664;14.55225
X-APPLE-STRUCTURED-LOCATION;VALUE=URI;X-ADDRESS=ul. Niepodległości 22\, S
 zczecin\, 70-412\, Poland;X-APPLE-RADIUS=100;X-TITLE=Boston Pub:geo:53.426
 64,14.55225
END:VEVENT
BEGIN:VTIMEZONE
TZID:Europe/Warsaw
X-LIC-LOCATION:Europe/Warsaw
BEGIN:STANDARD
DTSTART:20191027T020000
TZOFFSETFROM:+0200
TZOFFSETTO:+0100
TZNAME:CET
END:STANDARD
END:VTIMEZONE
END:VCALENDAR