BEGIN:VCALENDAR
VERSION:2.0
PRODID:-//wp-events-plugin.com//7.2.3.1//EN
TZID:Europe/Warsaw
X-WR-TIMEZONE:Europe/Warsaw
BEGIN:VEVENT
UID:51792@night4u.pl
DTSTART;TZID=Europe/Warsaw:20241225T220000
DTEND;TZID=Europe/Warsaw:20241226T010000
DTSTAMP:20241218T195859Z
URL:https://night4u.pl/wydarzenia/christmas-party-pierwszy-dzien-swiat-x-d
 emon-wroclaw/
SUMMARY:Christmas Party - Pierwszy Dzień Świąt // X-Demon Wrocław
DESCRIPTION:DRESS CODE: SMART CASUAL\nENTRY: + 18\n\n☎ Rezerwacje:\nhttp:
 //wroclaw.xdemon.pl/rezerwacja.html\nKONTAKT: wroclaw@xdemon.pl\nTEL: +48 
 730 992 808\nNie zapomnij o kuszących promocjach w klubie X-DEMON:\nPROMO
 CJA URODZINOWA\nPROMOCJA NA WIECZÓR PANIEŃSKI\nPROMOCJA NA WIECZÓR KAWA
 LERSKI\nOBSERWUJ NAS:\nwww.wroclaw.xdemon.pl\nwww.facebook.com/XDemonWrocl
 aw\nwww.instagram.com/xdemonwroclaw\nX-Demon GUEST:\nSzanowni Goście\, w 
 X-Demon Wrocław przywiązujemy dużą wagę do kreowania odpowiedniej atm
 osfery\, dlatego bardzo dbamy o selekcję na wejściu\, która obowiązuje
  w przypadku każdej rezerwacji.
ATTACH;FMTTYPE=image/jpeg:https://night4u.pl/wp-content/uploads/2024/12/Ch
 ristmas-Party-–-Pierwszy-Dzien-Swiat-X-Demon-Wroclaw.jpg
CATEGORIES:dolnośląskie
LOCATION:X-Demon - Wrocław\, X-Demon - Wrocław\, 
X-APPLE-STRUCTURED-LOCATION;VALUE=URI;X-ADDRESS=X-Demon - Wrocław\, ;X-APP
 LE-RADIUS=100;X-TITLE=X-Demon - Wrocław:geo:0,0
END:VEVENT
BEGIN:VTIMEZONE
TZID:Europe/Warsaw
X-LIC-LOCATION:Europe/Warsaw
BEGIN:STANDARD
DTSTART:20241027T020000
TZOFFSETFROM:+0200
TZOFFSETTO:+0100
TZNAME:CET
END:STANDARD
END:VTIMEZONE
END:VCALENDAR