BEGIN:VCALENDAR
VERSION:2.0
PRODID:-//wp-events-plugin.com//7.2.3.1//EN
TZID:Europe/Warsaw
X-WR-TIMEZONE:Europe/Warsaw
BEGIN:VEVENT
UID:40430@night4u.pl
DTSTART;TZID=Europe/Warsaw:20191225T210000
DTEND;TZID=Europe/Warsaw:20191226T060000
DTSTAMP:20191225T230838Z
URL:https://night4u.pl/wydarzenia/christmas-story-mj-sax/
SUMMARY:Christmas Story! MJ.Sax
DESCRIPTION:Jak nakazuje świąteczna tradycja... Już 25 grudnia\, zagośc
 i u nas utalentowany\, szalony i nieprzewidywalny MJ.Sax! \nPrzy pomocy sw
 ojego srebrzystego pukacza opowie nam kolejną świąteczną historię\, k
 tórej mamy nadzieje będziecie częścią :D\nWsparcie dostanie od naszyc
 h rezydentów Marcina S. oraz DJa Grouse &lt\;3\nSpodziewajcie się niespo
 dziewanego!
ATTACH;FMTTYPE=image/jpeg:https://night4u.pl/wp-content/uploads/2019/12/12
 2120_image_79744333_2785333188200443_1563706831224700928_o.jpg
CATEGORIES:świętokrzyskie
LOCATION:MASKA Incognito Club\, Rynek 5\, Kielce\, 25-303\, Poland
GEO:50.871945;20.632092
X-APPLE-STRUCTURED-LOCATION;VALUE=URI;X-ADDRESS=Rynek 5\, Kielce\, 25-303\,
  Poland;X-APPLE-RADIUS=100;X-TITLE=MASKA Incognito Club:geo:50.871945,20.6
 32092
END:VEVENT
BEGIN:VTIMEZONE
TZID:Europe/Warsaw
X-LIC-LOCATION:Europe/Warsaw
BEGIN:STANDARD
DTSTART:20191027T020000
TZOFFSETFROM:+0200
TZOFFSETTO:+0100
TZNAME:CET
END:STANDARD
END:VTIMEZONE
END:VCALENDAR