BEGIN:VCALENDAR
VERSION:2.0
PRODID:-//wp-events-plugin.com//7.2.3.1//EN
TZID:Europe/Warsaw
X-WR-TIMEZONE:Europe/Warsaw
BEGIN:VEVENT
UID:39147@night4u.pl
DTSTART;TZID=Europe/Warsaw:20191225T220000
DTEND;TZID=Europe/Warsaw:20191227T050000
DTSTAMP:20191226T042331Z
URL:https://night4u.pl/wydarzenia/christmas-time-sroda-czwartek-donkichot-
 start-2200/
SUMMARY:CHRISTMAS PARTY - (ŚRODA-CZWARTEK) DonKichot Start 22:00
DESCRIPTION:CHRISTMAS PARTY - Klub DonKichot - 25/26.12 (ŚRODA-CZWARTEK) s
 tart 22:00\n\n\nCHRISTMAS PARTY\n\n\n*************************************
 ***********\nDJ COMBO - CUBATON GÓRNY POKŁAD KLUBU DONKICHOT \n*********
 ***************************************\nDJ Oneshot - R'n'B dancefloor\nRE
 ZYDENT KLUB DONKICHOT\n*****************************************\nDj Kris 
 - Sala główna\nREZYDENT KLUB DONKICHOT\n********************************
 **********\nDj Marcel - Sala główna \nREZYDENT NAJWIĘKSZYCH KLUBÓW AGL
 OMERAJI ŚLĄSKIEJ\n************************************************\nDj S
 ebales - Sala główna\nREZYDENT NAJWIĘKSZYCH KLUBÓW AGLOMERAJI ŚLĄSKI
 EJ\n**************************************\nDJ Adi- Disco Polo dancefloor\
 nREZYDENT KLUB DONKICHOT\n************************************\nKaraoke\n\
 n\nTego wieczoru przestrzeń wypełnią gorące dźwięki oraz znane i lub
 iane przez wszystkich muzyczne hity dance\, pop\, latino\, reggae\, danceh
 all\, mash-up\, electro house\, hip-hop prezentowane przez naszych NAJLEPs
 zych Dj'i : Dj KRIS\, Dj Oneshot\, Dj Adi\, Dj Sebales\,Dj Marssell \nTo b
 ędzie noc \,Noc pełna pożądania i pasji\, tej nocy zmysły rozbudzają
  się coraz bardziej i bardziej\, przekształcając się w czyste pożąda
 nie tańca i zabawy. Na parkiet wkradnie się magia po...żądania i zniew
 olenia przy której nieśmiałość ustąpi miejsca odwadze\, a szaleństw
 o weźmie górę nad codziennością. No bo nie sama praca i obowiązkami 
 żyje człowiek.\nRelaks i miła atmosfera to podstawa każdego weekendu. 
 Chcemy zapomnieć o stresach minionego tygodnia i dać się porwać przyje
 mnym doznaniom. Wszystkich\, pełnych energii do spożytkowania\, spragnio
 nych gorącej klubowej atmosfery zapraszamy do Klubu Don Kichot. Czekaja n
 a was najlepsze\, kuszace drinki w mega promocyjnych\, gorących cenach\, 
 przygotowane przez profesjonalną\, zawsze czującą imprezę- Ekipę Don 
 Kichota .Przestrzeń wypełnią gorące dźwięki oraz znane i lubiane prz
 ez wszystkich muzyczne hity prezentowane przez naszych rezydentów. Przyja
 zny wystrój i profesjonalna obsługa\, stworzą niepowtarzalną atmosfer
 ę. Sala Dance\, Sala RnB\, Sala Latino\, Sala Karaoke\, Sala Disco Polo -
  cały lokal do Państwa dyspozycji.\nNie może Was zabraknąć\, już zar
 ezerwowaliśmy dla was stolik… !!!\nDo zobaczenia na imprezie!\n########
 ###############################\n\n\nKlub DON Kichot\nAl.NMP 64 | 42-200 C
 zęstochowa\nrezerwacje: 79 444 0 888 | start 22:00
ATTACH;FMTTYPE=image/jpeg:https://night4u.pl/wp-content/uploads/2019/12/11
 4583_image_80320576_2569592339744944_2285952298406379520_n.jpg
CATEGORIES:śląskie
LOCATION:Klub DON Kichot\, Aleja Najświętszej Maryi Panny 64\, Czestochow
 a\, 42-200\, Poland
GEO:50.812498;19.105794
X-APPLE-STRUCTURED-LOCATION;VALUE=URI;X-ADDRESS=Aleja Najświętszej Maryi 
 Panny 64\, Czestochowa\, 42-200\, Poland;X-APPLE-RADIUS=100;X-TITLE=Klub D
 ON Kichot:geo:50.812498,19.105794
END:VEVENT
BEGIN:VTIMEZONE
TZID:Europe/Warsaw
X-LIC-LOCATION:Europe/Warsaw
BEGIN:STANDARD
DTSTART:20191027T020000
TZOFFSETFROM:+0200
TZOFFSETTO:+0100
TZNAME:CET
END:STANDARD
END:VTIMEZONE
END:VCALENDAR