BEGIN:VCALENDAR
VERSION:2.0
PRODID:-//wp-events-plugin.com//7.2.3.1//EN
TZID:Europe/Warsaw
X-WR-TIMEZONE:Europe/Warsaw
BEGIN:VEVENT
UID:29951@night4u.pl
DTSTART;TZID=Europe/Warsaw:20191109T230000
DTEND;TZID=Europe/Warsaw:20191111T080000
DTSTAMP:20200401T084739Z
URL:https://night4u.pl/wydarzenia/cialo-1-urodziny-999999999-live-kangding
 -ray/
SUMMARY:Ciało 1 urodziny: 999999999 live &amp\; Kangding Ray
DESCRIPTION:Mija rok od narodzin Ciała. Z tej okazji daj upust emocjom jak
  nigdy 👤\n_______________________________\n9.11\n\n999999999 live - wł
 oski duet znany z surowego\, kwaśnego i szybkiego show. Ich live acty są
  w większości spontaniczne i improwizowane przy wykorzystaniu masy hardw
 are'u i energii zbieranej z parkietu.\n\nhttps://www.youtube.com/watch?v=U
 IwacIqPRyM\nhttps://soundcloud.com/999999999music\n\n10.11\n\nKangding Ray
  - urodzony we Francji\, od lat mieszkający w Berlinie David Lettelier. S
 pecjalizuje się w eksperymentalnej elektronice z klubowym zacięciem\, kt
 órej brzmienie bywa porównywane do muzyki filmowej. \n\nhttps://www.yout
 ube.com/watch?v=LO40CaFEG5Y\nhttps://soundcloud.com/kangding-ray\n________
 _______________________\n\nCruzOe [Ciało]\nhttps://soundcloud.com/cruzoe\
 n\nKacpa [Ciało\, HeartBeats]\nhttps://soundcloud.com/djkacpa\n\nMichał 
 Macewicz [Ciało\, SLAP]\nhttps://soundcloud.com/djmikem\n\nRaev [Ciało\,
  HeartBeats]\nhttps://soundcloud.com/raev\n\nSpectribe [Ciało\, SLAP]\nht
 tps://soundcloud.com/spectribe\n\nSzymon Piotr [Ciało\, HeartBeats]\nhttp
 s://soundcloud.com/szymonpiotr\n_______________________________\ntax: 40pl
 n / day\n20pln after 5am\n_______________________________\nrules:\nno pre-
 sale\nbe kind to your neighbours\ndoorman has the final say\nno photos on 
 the dancefloor\n#nolimetangere
ATTACH;FMTTYPE=image/jpeg:https://night4u.pl/wp-content/uploads/2019/11/69
 051_image_73482778_2219800204985423_8036048767624937472_o.jpg
CATEGORIES:dolnośląskie
LOCATION:Ciało\, Świdnicka 12\, Wroclaw\, 50-068\, Poland
GEO:51.106907;17.032125
X-APPLE-STRUCTURED-LOCATION;VALUE=URI;X-ADDRESS=Świdnicka 12\, Wroclaw\, 5
 0-068\, Poland;X-APPLE-RADIUS=100;X-TITLE=Ciało:geo:51.106907,17.032125
END:VEVENT
BEGIN:VTIMEZONE
TZID:Europe/Warsaw
X-LIC-LOCATION:Europe/Warsaw
BEGIN:STANDARD
DTSTART:20191027T020000
TZOFFSETFROM:+0200
TZOFFSETTO:+0100
TZNAME:CET
END:STANDARD
END:VTIMEZONE
END:VCALENDAR