BEGIN:VCALENDAR
VERSION:2.0
PRODID:-//wp-events-plugin.com//7.2.3.1//EN
TZID:Europe/Warsaw
X-WR-TIMEZONE:Europe/Warsaw
BEGIN:VEVENT
UID:27571@night4u.pl
DTSTART;TZID=Europe/Warsaw:20200109T220000
DTEND;TZID=Europe/Warsaw:20200110T040000
DTSTAMP:20200331T202158Z
URL:https://night4u.pl/wydarzenia/cialo-stale-kacpa-b-day-21/
SUMMARY:Ciało stałe
DESCRIPTION:Ulegnij pokusie w każdy czwartek. Objawia się ona jako jeden 
 z rezydentów Ciała w różnych formach - all night long\, b2b lub z zapr
 aszanymi przez nich gośćmi.\n\nW drugi dzień świąt uwidoczni się za 
 sprawą rezydenta Ciała CruzOe i jego gościa Gawsa.\n\n_________________
 _____________\n\nCruzOe [Ciało]\nhttps://soundcloud.com/cruzoe\n\nGaws\nh
 ttps://soundcloud.com/gawsss\n_______________________________\ntax: free\n
 _______________________________\nrules:\n\nbe kind to your neighbours\nno 
 photos on the dancefloor\n#nolimetangere
ATTACH;FMTTYPE=image/jpeg:https://night4u.pl/wp-content/uploads/2020/01/64
 118_image_69888434_2175221089443335_2623287731437961216_o-1.jpg
CATEGORIES:dolnośląskie
LOCATION:Ciało\, Świdnicka 12\, Wroclaw\, 50-068\, Poland
GEO:51.106907;17.032125
X-APPLE-STRUCTURED-LOCATION;VALUE=URI;X-ADDRESS=Świdnicka 12\, Wroclaw\, 5
 0-068\, Poland;X-APPLE-RADIUS=100;X-TITLE=Ciało:geo:51.106907,17.032125
END:VEVENT
BEGIN:VTIMEZONE
TZID:Europe/Warsaw
X-LIC-LOCATION:Europe/Warsaw
BEGIN:STANDARD
DTSTART:20191027T020000
TZOFFSETFROM:+0200
TZOFFSETTO:+0100
TZNAME:CET
END:STANDARD
END:VTIMEZONE
END:VCALENDAR