BEGIN:VCALENDAR
VERSION:2.0
PRODID:-//wp-events-plugin.com//7.2.3.1//EN
TZID:Europe/Warsaw
X-WR-TIMEZONE:Europe/Warsaw
BEGIN:VEVENT
UID:27587@night4u.pl
DTSTART;TZID=Europe/Warsaw:20190919T220000
DTEND;TZID=Europe/Warsaw:20190920T040000
DTSTAMP:20190914T111217Z
URL:https://night4u.pl/wydarzenia/cialo-stale-kacpa-b-day-37/
SUMMARY:Ciało stałe /kacpa b-day/
DESCRIPTION:Ulegnij pokusie w każdy czwartek. Objawia się ona jako jeden 
 z rezydentów Ciała w różnych formach - all night long\, b2b lub z zapr
 aszanymi przez nich gośćmi.\n\nJego pierwszą odsłoną będzie obrzęd 
 rocznicy urodzin Kacpy. Na tę okazję zbiorą się (prawie) wszyscy.\n\nW
 ódź mnie na pokuszenie.\n\n_______________________________\n\nCruzOe \nh
 ttps://soundcloud.com/cruzoe\n\nKacpa\nsoundcloud.com/djkacpa\n\nMichał M
 acewicz\nhttps://soundcloud.com/djmikem\n\nRaev \nsoundcloud.com/raev\n\nS
 pectribe\nsoundcloud.com/spectribe\n\noraz\n\nGaws\nhttps://soundcloud.com
 /gawsss\n\n_______________________________\ntax: free\n___________________
 ____________\nrules:\n\nno pre-sale\nbe kind to your neighbours\nno photos
  on the dancefloor\n#nolimetangere
ATTACH;FMTTYPE=image/jpeg:https://night4u.pl/wp-content/uploads/2019/09/64
 118_image_69888434_2175221089443335_2623287731437961216_o.jpg
CATEGORIES:dolnośląskie
LOCATION:Ciało\, Świdnicka 12\, Wroclaw\, 50-068\, Poland
GEO:51.106907;17.032125
X-APPLE-STRUCTURED-LOCATION;VALUE=URI;X-ADDRESS=Świdnicka 12\, Wroclaw\, 5
 0-068\, Poland;X-APPLE-RADIUS=100;X-TITLE=Ciało:geo:51.106907,17.032125
END:VEVENT
BEGIN:VTIMEZONE
TZID:Europe/Warsaw
X-LIC-LOCATION:Europe/Warsaw
BEGIN:DAYLIGHT
DTSTART:20190331T030000
TZOFFSETFROM:+0100
TZOFFSETTO:+0200
TZNAME:CEST
END:DAYLIGHT
END:VTIMEZONE
END:VCALENDAR