BEGIN:VCALENDAR
VERSION:2.0
PRODID:-//wp-events-plugin.com//7.2.3.1//EN
TZID:Europe/Warsaw
X-WR-TIMEZONE:Europe/Warsaw
BEGIN:VEVENT
UID:1482@night4u.pl
DTSTART;TZID=Europe/Warsaw:20190112T230000
DTEND;TZID=Europe/Warsaw:20190113T070000
DTSTAMP:20190206T194149Z
URL:https://night4u.pl/wydarzenia/cialo-voiski-live/
SUMMARY:Ciało: Voiski live
DESCRIPTION:Ciało:\n\nVoiski live (Dekmantel / L.I.E.S.)\n\n\nMKO (dype / 
 Jasna 1)\n\n\nKacpa (HeartBeats / Ciało)\n\n\nSzymon Piotr (HeartBeats / 
 Ciało)\n\n\n_______________________________\ntax: 35pln\n________________
 _______________\nrules:\nbe nice\ndoorman\nno photos on the dancefloor\nno
  pre-sale
ATTACH;FMTTYPE=image/jpeg:https://night4u.pl/wp-content/uploads/2018/12/68
 57_image_48423650_2021355248163254_5412180850529796096_o.jpg
CATEGORIES:dolnośląskie
LOCATION:Ciało\, Świdnicka 12\, Wroclaw\, 50-068\, Poland
GEO:51.106907;17.032125
X-APPLE-STRUCTURED-LOCATION;VALUE=URI;X-ADDRESS=Świdnicka 12\, Wroclaw\, 5
 0-068\, Poland;X-APPLE-RADIUS=100;X-TITLE=Ciało:geo:51.106907,17.032125
END:VEVENT
BEGIN:VTIMEZONE
TZID:Europe/Warsaw
X-LIC-LOCATION:Europe/Warsaw
BEGIN:STANDARD
DTSTART:20181028T020000
TZOFFSETFROM:+0200
TZOFFSETTO:+0100
TZNAME:CET
END:STANDARD
END:VTIMEZONE
END:VCALENDAR