BEGIN:VCALENDAR
VERSION:2.0
PRODID:-//wp-events-plugin.com//7.2.3.1//EN
TZID:Europe/Warsaw
X-WR-TIMEZONE:Europe/Warsaw
BEGIN:VEVENT
UID:47222@night4u.pl
DTSTART;TZID=Europe/Warsaw:20200229T230000
DTEND;TZID=Europe/Warsaw:20200301T080000
DTSTAMP:20200331T141738Z
URL:https://night4u.pl/wydarzenia/cialo-zywe/
SUMMARY:Żywe Ciało
DESCRIPTION:29 lutego Ciało ożyje. Całą noc wypełnią dźwięki z masz
 yn zarówno czołowych jak i rozpoczynających przygodę rodzimych live’
 actowców. \n\nKuba Sojka\nhttps://soundcloud.com/kuba-sojka\n\nOTHK\nhttp
 s://soundcloud.com/othk\n\nART. NULL\nhttps://soundcloud.com/artikelnull\n
 \nd' aka Szymon d' Danis\nhttps://soundcloud.com/d-prim/sets/schadenfreude
 \n\nMinna Murra\nhttps://soundcloud.com/minnamurra\n\n____________________
 __________\ntax: 30pln (after 5am - 15pln)\n______________________________
 _\n\nrules:\nno pre-sale\nbe kind to your neighbours\ndoorman has the fina
 l say\nno photos on the dancefloor\n#nolimetangere
ATTACH;FMTTYPE=image/jpeg:https://night4u.pl/wp-content/uploads/2020/02/15
 7475_image_87767081_2316327181999391_6963133187958505472_o.jpg
CATEGORIES:dolnośląskie
LOCATION:Ciało\, Świdnicka 12\, Wroclaw\, 50-068\, Poland
GEO:51.106907;17.032125
X-APPLE-STRUCTURED-LOCATION;VALUE=URI;X-ADDRESS=Świdnicka 12\, Wroclaw\, 5
 0-068\, Poland;X-APPLE-RADIUS=100;X-TITLE=Ciało:geo:51.106907,17.032125
END:VEVENT
BEGIN:VTIMEZONE
TZID:Europe/Warsaw
X-LIC-LOCATION:Europe/Warsaw
BEGIN:STANDARD
DTSTART:20191027T020000
TZOFFSETFROM:+0200
TZOFFSETTO:+0100
TZNAME:CET
END:STANDARD
END:VTIMEZONE
END:VCALENDAR