BEGIN:VCALENDAR
VERSION:2.0
PRODID:-//wp-events-plugin.com//7.2.3.1//EN
TZID:Europe/Warsaw
X-WR-TIMEZONE:Europe/Warsaw
BEGIN:VEVENT
UID:11751@night4u.pl
DTSTART;TZID=Europe/Warsaw:20190405T220000
DTEND;TZID=Europe/Warsaw:20190406T050000
DTSTAMP:20190403T193747Z
URL:https://night4u.pl/wydarzenia/city-lights-union-station-5-04/
SUMMARY:City Lights / Union Station / 5.04
DESCRIPTION:???\n\nCity Lights znowu w Hall'u. My dajemy wam muzykę\, wy d
 ajecie nam energię. Będzie rapowo. Będzie trapowo. Będzie ?️ af. ?\n
 Po raz kolejny będziemy podróżować po świecie robiąc przegląd tego 
 co ten nam muzycznie może zaoferować. Wyruszamy z Union Station. Będzie
 my w Atlancie\, Paryżu\, Warszawie\, aż po Szanghaj i wyższych braci 
ATTACH;FMTTYPE=image/jpeg:https://night4u.pl/wp-content/uploads/2019/04/30
 191_image_55546951_2572402246163386_6273049445206589440_o.jpg
CATEGORIES:zachodniopomorskie
LOCATION:City Hall Club\, 3 MAJA 18\, Szczecin\, 70-215\, Poland
GEO:53.420078;14.549235
X-APPLE-STRUCTURED-LOCATION;VALUE=URI;X-ADDRESS=3 MAJA 18\, Szczecin\, 70-2
 15\, Poland;X-APPLE-RADIUS=100;X-TITLE=City Hall Club:geo:53.420078,14.549
 235
END:VEVENT
BEGIN:VTIMEZONE
TZID:Europe/Warsaw
X-LIC-LOCATION:Europe/Warsaw
BEGIN:DAYLIGHT
DTSTART:20190331T030000
TZOFFSETFROM:+0100
TZOFFSETTO:+0200
TZNAME:CEST
END:DAYLIGHT
END:VTIMEZONE
END:VCALENDAR