BEGIN:VCALENDAR
VERSION:2.0
PRODID:-//wp-events-plugin.com//7.2.3.1//EN
TZID:Europe/Warsaw
X-WR-TIMEZONE:Europe/Warsaw
BEGIN:VEVENT
UID:19727@night4u.pl
DTSTART;TZID=Europe/Warsaw:20190803T220000
DTEND;TZID=Europe/Warsaw:20190804T050000
DTSTAMP:20190619T115318Z
URL:https://night4u.pl/wydarzenia/cj-stone-%e2%98%85-sobota-03-08-%e2%98%8
 5-imperium-retro-bass/
SUMMARY:CJ STONE ★ Sobota 03/08 ★ Imperium Retro Bass
DESCRIPTION:CJ STONE ★ Sobota 03/08 ★ Imperium Retro Bass ★ Wstęp 18
 +.\n\nCzy jesteście gotowi na potężne trzęsienie ziemi w naszym klubie
 ?! Jeśli tak\, to zapraszamy serdecznie 3 sierpnia do Imperium. Naszym go
 ściem specjalnym będzie niemiecki dj i producent czyli CJ STONE. Ponadto
 \, o najlepszy klimat podczas całej imprezy zadbają nasi rezydenci.\nNie
  może Cibie zabraknąć!\nDołącz do wydarzenia!\n★ Panie do godz.23 w
 stęp FREE!!!\n★ Do każdego biletu Welcome Drink FREE!!!\n★ Efekty zm
 rożonego Co2\n☎ Rezerwacje loży 605436373\nGorąco zapraszamy .\nChces
 z otrzymać wstęp dla 6 osób\, lożę i pakiet startowy (%) oraz nową k
 lubową koszulkę dla organizatora na mega imprezę: sobota 03/08 Cj Stone
 !!!\nWystarczy napisać w komentarzu z kim będziecie imprezować i opubli
 kować na swoim FB.\nBądźcie czujni - wyniki w sobotę 03/08 godz.19.
ATTACH;FMTTYPE=image/jpeg:https://night4u.pl/wp-content/uploads/2019/06/47
 517_image_62061127_2471533022857031_4276854955056300032_o.jpg
CATEGORIES:dolnośląskie
LOCATION:Klub Imperium\, ul. Gdańska 29\, Bolesławiec\, 59-700\, Poland
GEO:51.260342;15.55112
X-APPLE-STRUCTURED-LOCATION;VALUE=URI;X-ADDRESS=ul. Gdańska 29\, Bolesław
 iec\, 59-700\, Poland;X-APPLE-RADIUS=100;X-TITLE=Klub Imperium:geo:51.2603
 42,15.55112
END:VEVENT
BEGIN:VTIMEZONE
TZID:Europe/Warsaw
X-LIC-LOCATION:Europe/Warsaw
BEGIN:DAYLIGHT
DTSTART:20190331T030000
TZOFFSETFROM:+0100
TZOFFSETTO:+0200
TZNAME:CEST
END:DAYLIGHT
END:VTIMEZONE
END:VCALENDAR