BEGIN:VCALENDAR
VERSION:2.0
PRODID:-//wp-events-plugin.com//7.2.3.1//EN
TZID:Europe/Warsaw
X-WR-TIMEZONE:Europe/Warsaw
BEGIN:VEVENT
UID:4439@night4u.pl
DTSTART;TZID=Europe/Warsaw:20190324T200000
DTEND;TZID=Europe/Warsaw:20190324T230000
DTSTAMP:20190120T192000Z
URL:https://night4u.pl/wydarzenia/clock-machine-24-03-lodz-scenografia/
SUMMARY:Clock Machine / 24.03 / Łódź / Scenografia
DESCRIPTION:Clock Machine wraca z nowym albumem!\n\nWszystko co wiemy o prz
 yszłości\, to tylko chłodne prognozy. To w nich tkwią wszystkie nasze 
 nadzieje i obawy. Mogą zwiastować wieczne słońce i szczęście\, albo 
 fatum i niekończący się\, wściekły tajfun\, niszczący wszystko co sp
 otka na swej drodze. Zaufać im\, czy może przejść obojętnie obok? A c
 o\, jeśli mówią prawdę o przyszłości? Co jeśli jest już za późno
  i na nic nie mamy wpływu?\n \nClock Machine wraca z albumem\, który zad
 aje pytania i dogłębnie analizuje różne oblicza relacji międzyludzkic
 h. Z piosenkami o próbach odnalezienia wspólnego języka z drugim człow
 iekiem. O słodkich sukcesach i gorzkich porażkach.\nPremiera płyty "Pro
 gnozy" już w marcu.\n\nbilety 35/40/45 \nhttps://going.pl/clock-machine-s
 cenografia
ATTACH;FMTTYPE=image/jpeg:https://night4u.pl/wp-content/uploads/2019/01/14
 745_image_49337457_2115433178522190_4492371401742745600_o.jpg
CATEGORIES:łódzkie
LOCATION:Scenografia\, Zachodnia 81/83\, Łódź\, 90-402\, Poland
GEO:51.774869;19.451955
X-APPLE-STRUCTURED-LOCATION;VALUE=URI;X-ADDRESS=Zachodnia 81/83\, Łódź\,
  90-402\, Poland;X-APPLE-RADIUS=100;X-TITLE=Scenografia:geo:51.774869,19.4
 51955
END:VEVENT
BEGIN:VTIMEZONE
TZID:Europe/Warsaw
X-LIC-LOCATION:Europe/Warsaw
BEGIN:STANDARD
DTSTART:20181028T020000
TZOFFSETFROM:+0200
TZOFFSETTO:+0100
TZNAME:CET
END:STANDARD
END:VTIMEZONE
END:VCALENDAR