BEGIN:VCALENDAR
VERSION:2.0
PRODID:-//wp-events-plugin.com//7.2.3.1//EN
TZID:Europe/Warsaw
X-WR-TIMEZONE:Europe/Warsaw
BEGIN:VEVENT
UID:30329@night4u.pl
DTSTART;TZID=Europe/Warsaw:20191019T210000
DTEND;TZID=Europe/Warsaw:20191020T040000
DTSTAMP:20191019T215037Z
URL:https://night4u.pl/wydarzenia/clockwork-orange-saturday-15/
SUMMARY:Clockwork Orange Saturday
DESCRIPTION:Pomarańczowa sobota\, zakręcona\, roztańczona...\nZapraszamy
  do Mechanicznej Pomarańczy!\nBarmani zaserwują pyszne drinki\, a czas m
 uzycznie umili DJ Samuel Woolf\n\nKiedy? 19.10.2019\nWstęp free\nStartuje
 my o godzinie 21:00\n19+\n\nMechaniczna Pomarańcza\nUl. Do Studzienki 61\
 nhttps://facebook.com/klubmechaniczna/
ATTACH;FMTTYPE=image/jpeg:https://night4u.pl/wp-content/uploads/2019/10/69
 933_image_72267373_3068558189837384_3193184910424670208_o.jpg
CATEGORIES:pomorskie
LOCATION:Mechaniczna Pomarańcza\, Do Studzienki 61\, Gdansk\, 80-227\, Pol
 and
GEO:54.369531;18.61039
X-APPLE-STRUCTURED-LOCATION;VALUE=URI;X-ADDRESS=Do Studzienki 61\, Gdansk\,
  80-227\, Poland;X-APPLE-RADIUS=100;X-TITLE=Mechaniczna Pomarańcza:geo:54
 .369531,18.61039
END:VEVENT
BEGIN:VTIMEZONE
TZID:Europe/Warsaw
X-LIC-LOCATION:Europe/Warsaw
BEGIN:DAYLIGHT
DTSTART:20190331T030000
TZOFFSETFROM:+0100
TZOFFSETTO:+0200
TZNAME:CEST
END:DAYLIGHT
END:VTIMEZONE
END:VCALENDAR