BEGIN:VCALENDAR
VERSION:2.0
PRODID:-//wp-events-plugin.com//7.2.3.1//EN
TZID:Europe/Warsaw
X-WR-TIMEZONE:Europe/Warsaw
BEGIN:VEVENT
UID:33666@night4u.pl
DTSTART;TZID=Europe/Warsaw:20191102T200000
DTEND;TZID=Europe/Warsaw:20191102T230000
DTSTAMP:20191102T002930Z
URL:https://night4u.pl/wydarzenia/closterkeller-blitzkrieg-graffiti-lublin
 /
SUMMARY:Closterkeller + Blitzkrieg - Graffiti - Lublin
DESCRIPTION:02.11.2019 godz. 20:00 - Klub Graffiti - Lublin\nbilety 35/45 P
 LN\nPrzedsprzedaż:\nKlub Graffiti (Piłsudskiego 13)\nMonument (Krakowski
 e Przedmieście 55)\nTeleserwis24 (Dragonów 3B)\n\nZapraszamy na koncerty
  w ramach jesiennej trasy podczas której zaprezentujemy Wam pierwsze nowe
  utwory z płyty którą planujemy wydać w przyszłym roku.\n\nCLOSTERKEL
 LER to czołowy przedstawiciel nurtu tzw. "klimatycznego" rocka\, okrzykni
 ęty mianem kultowej formacji na polskiej scenie muzycznej\, którego lide
 rką jest Anja Orthodox - jedna z czołowych\, polskich wokalistek rockowy
 ch\, obdarzona charakterystycznym głosem i charyzmą. Muzyka grupy jest b
 ardzo zróżnicowana\; od chorych\, zimnofalowych brzmień\, poprzez flirt
  z ciężkim metalem\, aż do nieco "zakręconego" pop-rocka\, a mocne akc
 enty stanowią monumentalne gotyckie kompozycje.\nOstatnie studyjne wydawn
 ictwo zespołu zat. „VIRIDIAN” miało swoją premierę jesienią 2017 
 roku\, jako dziesiąty album studyjny\, którego wydawcą był Universal M
 usic Polska. Materiał został zarejestrowany w studio „KULTOWE” Adama
  Toczko\, który był jednocześnie jego producentem muzycznym. Płyta zos
 tała bardzo dobrze przyjęta zarówno przez fanów jak i media muzyczne. 
 Album po premierze uplasował się na 7 pozycji listy najlepiej sprzedają
 cych się płyt w Polsce\, dodatkowo jako najwyżej notowana nowość na l
 iście OLiS.\nPłyta została nominowana do nagrody Antyradia w kategorii 
 album roku 2017\, Anja Orthodox w kategorii wokalistka roku\, a utwór zat
 .„ Kolorowa Magdalena” nominowano w kategorii przebój roku.\nObecnie 
 zespół przygotowuje materiał na nowy\, jedenasty album studyjny któreg
 o premiera przewidziana jest w 2020 roku.\nhttps://www.facebook.com/closte
 rkeller/\nwww.closterkeller.pl
ATTACH;FMTTYPE=image/jpeg:https://night4u.pl/wp-content/uploads/2019/10/84
 852_image_68718791_10157136425516900_2715332428234227712_n.jpg
CATEGORIES:lubelskie
LOCATION:Klub Graffiti\, Al. Piłsudskiego 13\, Lublin\, 20-011\, Poland
GEO:51.240325;22.557024
X-APPLE-STRUCTURED-LOCATION;VALUE=URI;X-ADDRESS=Al. Piłsudskiego 13\, Lubl
 in\, 20-011\, Poland;X-APPLE-RADIUS=100;X-TITLE=Klub Graffiti:geo:51.24032
 5,22.557024
END:VEVENT
BEGIN:VTIMEZONE
TZID:Europe/Warsaw
X-LIC-LOCATION:Europe/Warsaw
BEGIN:STANDARD
DTSTART:20191027T020000
TZOFFSETFROM:+0200
TZOFFSETTO:+0100
TZNAME:CET
END:STANDARD
END:VTIMEZONE
END:VCALENDAR