BEGIN:VCALENDAR
VERSION:2.0
PRODID:-//wp-events-plugin.com//7.2.3.1//EN
TZID:Europe/Warsaw
X-WR-TIMEZONE:Europe/Warsaw
BEGIN:VEVENT
UID:22921@night4u.pl
DTSTART;TZID=Europe/Warsaw:20191103T190000
DTEND;TZID=Europe/Warsaw:20191103T220000
DTSTAMP:20191103T021613Z
URL:https://night4u.pl/wydarzenia/closterkeller-klub-proxima-warszawa/
SUMMARY:Closterkeller + Blitzkrieg - Klub Proxima - Warszawa
DESCRIPTION:03.11.2019 godz. 19:00 - Klub Proxima - Warszawa\nbilety 35/45 
 PLN do nabycia online:\nhttps://goout.net/pl/bilety/closterkeller+blitzkri
 eg/jkaf/\nhttps://www.ticketmaster.pl/event/closterkeller-bilety/13535\nht
 tps://ticketclub.pl/koncerty/closterkeller-blitzkrieg-proxima-warszawa-101
 1/\nhttps://www.eventim.pl/ClosterkellerBlitzkrieg\nhttps://www.ebilet.pl/
 muzyka/hard-heavy/closterkeller/\nhttps://going.pl/closterkeller-proxima-\
 n\nZapraszamy na koncerty w ramach jesiennej trasy podczas której zapreze
 ntujemy Wam pierwsze nowe utwory z płyty którą planujemy wydać w przys
 złym roku.\n\nCLOSTERKELLER to czołowy przedstawiciel nurtu tzw. "klimat
 ycznego" rocka\, okrzyknięty mianem kultowej formacji na polskiej scenie 
 muzycznej\, którego liderką jest Anja Orthodox - jedna z czołowych\, po
 lskich wokalistek rockowych\, obdarzona charakterystycznym głosem i chary
 zmą. Muzyka grupy jest bardzo zróżnicowana\; od chorych\, zimnofalowych
  brzmień\, poprzez flirt z ciężkim metalem\, aż do nieco "zakręconego
 " pop-rocka\, a mocne akcenty stanowią monumentalne gotyckie kompozycje.\
 nOstatnie studyjne wydawnictwo zespołu zat. „VIRIDIAN” miało swoją 
 premierę jesienią 2017 roku\, jako dziesiąty album studyjny\, którego 
 wydawcą był Universal Music Polska. Materiał został zarejestrowany w s
 tudio „KULTOWE” Adama Toczko\, który był jednocześnie jego producen
 tem muzycznym. Płyta została bardzo dobrze przyjęta zarówno przez fan
 ów jak i media muzyczne. Album po premierze uplasował się na 7 pozycji 
 listy najlepiej sprzedających się płyt w Polsce\, dodatkowo jako najwy
 żej notowana nowość na liście OLiS.\nPłyta została nominowana do nag
 rody Antyradia w kategorii album roku 2017\, Anja Orthodox w kategorii wok
 alistka roku\, a utwór zat.„ Kolorowa Magdalena” nominowano w kategor
 ii przebój roku.\nObecnie zespół przygotowuje materiał na nowy\, jeden
 asty album studyjny którego premiera przewidziana jest w 2020 roku.\nhttp
 s://www.facebook.com/closterkeller/\nwww.closterkeller.pl\n\nBILETY:\nhttp
 s://goout.net/pl/bilety/closterkeller+blitzkrieg/jkaf/\nhttps://www.ticket
 master.pl/event/closterkeller-bilety/13535\nhttps://ticketclub.pl/koncerty
 /closterkeller-blitzkrieg-proxima-warszawa-1011/\nhttps://www.eventim.pl/C
 losterkellerBlitzkrieg\nhttps://www.ebilet.pl/muzyka/hard-heavy/closterkel
 ler/
ATTACH;FMTTYPE=image/jpeg:https://night4u.pl/wp-content/uploads/2019/11/54
 172_image_67773963_10157136428126900_1475954198326542336_n.jpg
CATEGORIES:mazowieckie
LOCATION:Klub Proxima\, ul. Żwirki i Wigury 99a\, Warsaw\, 02-089\, Poland
GEO:52.212586;20.98704
X-APPLE-STRUCTURED-LOCATION;VALUE=URI;X-ADDRESS=ul. Żwirki i Wigury 99a\, 
 Warsaw\, 02-089\, Poland;X-APPLE-RADIUS=100;X-TITLE=Klub Proxima:geo:52.21
 2586,20.98704
END:VEVENT
BEGIN:VTIMEZONE
TZID:Europe/Warsaw
X-LIC-LOCATION:Europe/Warsaw
BEGIN:STANDARD
DTSTART:20191027T020000
TZOFFSETFROM:+0200
TZOFFSETTO:+0100
TZNAME:CET
END:STANDARD
END:VTIMEZONE
END:VCALENDAR