BEGIN:VCALENDAR
VERSION:2.0
PRODID:-//wp-events-plugin.com//7.2.3.1//EN
TZID:Europe/Warsaw
X-WR-TIMEZONE:Europe/Warsaw
BEGIN:VEVENT
UID:1408@night4u.pl
DTSTART;TZID=Europe/Warsaw:20190224T190000
DTEND;TZID=Europe/Warsaw:20190224T220000
DTSTAMP:20181227T232323Z
URL:https://night4u.pl/wydarzenia/closterkeller-nowy-andergrant-olsztyn/
SUMMARY:Closterkeller - Nowy Andergrant - Olsztyn
DESCRIPTION:24 luty godz. 19:00 - Nowy Andergrant\nbilety 35/45 PLN\n\nZapr
 aszamy na koncert zespołu CLOSTERKELLER czołowego przedstawiciela nurtu 
 tzw. "klimatycznego" rocka\, który został okrzyknięty mianem kultowej f
 ormacji na polskiej scenie muzycznej. Jego liderką jest Anja Orthodox - j
 edna z czołowych\, polskich wokalistek rockowych\, obdarzona charakteryst
 ycznym głosem i charyzmą. Muzyka grupy jest bardzo zróżnicowana\; od c
 horych\, zimnofalowych brzmień\, poprzez flirt z ciężkim metalem\, aż 
 do nieco "zakręconego" pop-rocka\, a mocne akcenty stanowią monumentalne
  gotyckie kompozycje.\nOstatnie studyjne wydawnictwo zespołu zat. „VIRI
 DIAN” miało swoją premierę jesienią 2017 roku\, jako dziesiąty albu
 m studyjny\, którego wydawcą był Universal Music Polska. Materiał zost
 ał zarejestrowany w studio „KULTOWE” Adama Toczko\, który był jedno
 cześnie jego producentem muzycznym. Płyta została bardzo dobrze przyję
 ta zarówno przez fanów jak i media muzyczne. Album po premierze uplasowa
 ł się na 7 pozycji listy najlepiej sprzedających się płyt w Polsce\, 
 dodatkowo jako najwyżej notowana nowość na liście OLiS.\nPłyta zosta
 ła nominowana do nagrody Antyradia w kategorii album roku 2017\, Anja Ort
 hodox w kategorii wokalistka roku\, a utwór zat.„ Kolorowa Magdalena”
  nominowano w kategorii przebój roku.\nhttps://www.facebook.com/closterke
 ller/\nwww.closterkeller.pl
ATTACH;FMTTYPE=image/jpeg:https://night4u.pl/wp-content/uploads/2018/12/66
 66_image_48371633_10156576668841900_3395479652477698048_n.jpg
CATEGORIES:warmińsko-mazurskie
LOCATION:\, \, 
X-APPLE-STRUCTURED-LOCATION;VALUE=URI;X-ADDRESS=\, ;X-APPLE-RADIUS=100;X-TI
 TLE=:geo:0,0
END:VEVENT
BEGIN:VTIMEZONE
TZID:Europe/Warsaw
X-LIC-LOCATION:Europe/Warsaw
BEGIN:STANDARD
DTSTART:20181028T020000
TZOFFSETFROM:+0200
TZOFFSETTO:+0100
TZNAME:CET
END:STANDARD
END:VTIMEZONE
END:VCALENDAR