BEGIN:VCALENDAR
VERSION:2.0
PRODID:-//wp-events-plugin.com//7.2.3.1//EN
TZID:Europe/Warsaw
X-WR-TIMEZONE:Europe/Warsaw
BEGIN:VEVENT
UID:1441@night4u.pl
DTSTART;TZID=Europe/Warsaw:20181228T210000
DTEND;TZID=Europe/Warsaw:20181229T050000
DTSTAMP:20181228T232412Z
URL:https://night4u.pl/wydarzenia/co-ci-zalezy-chodz-na-impreze_28-12_list
 a-fb-free/
SUMMARY:Co Ci zależy ? Chodź na Imprezę_28.12_Lista Fb Free
DESCRIPTION:Święta\, Święta i po Świętach ! Ciężko wrócić do obow
 iązków po Świątecznej przerwie\, dlatego z niecierpliwością nie moż
 emy doczekać się PIĄTKU ! :)\nSzczególnie gdy to Ostatni Piątunio w t
 ym Roku :D\nCzy to wystarczający powód aby Świętować? NO BA !\nPrzed 
 nami Najpiękniejszy Piątek w mieście\, ponieważ Piątek w naszym Klubi
 e to dzień poświęcony właśnie Kobietom ! \nPanowie\, czym byłby ten 
 Świat bez Nich ?! \nUsłyszycie u nas nie tylko najnowsze muzyczne produk
 cje\, lecz także nieśmiertelne Polskie kawałki przy których nasz parki
 et pęka w szwach !\nDo Zobaczenia ♥\n--------------------------- ◄ PR
 OMOCJE► -------------------------------\nGoście z listy FB wchodzą do 
 naszego klubu za DARMO :D\n*listę drukujemy o godzinie 18:00\n-----------
 ---------------- ◄ SZCZEGÓŁY ► -------------------------------\n► 
 Goście z listy FB wchodzą do klubu za DARMO do 22:00 na podstawie dowodu
  tożsamości.\n► Wstęp dla PAŃ przez Całą noc za JEDYNE 5zł ! :D\n
 ► Start: 21:00\, bawimy się do rana! \n► Rezerwacje: 888 422 015 lub 
 731 789 808\n► Wymagana Pełnoletność\n► Data: PIĄTEK 28.12.18\n►
  Dodaj na Snapie: madnesskielce :)\n► Prosimy pamiętać o schludnym ele
 ganckim stroju. \nGoście w strojach sportowych nie zostaną wpuszczeni do
  klubu.
ATTACH;FMTTYPE=image/jpeg:https://night4u.pl/wp-content/uploads/2018/12/67
 63_image_49101803_2220157368024080_5459539960254169088_n.jpg
CATEGORIES:świętokrzyskie
LOCATION:Madness Club\, Piotrkowska 12\, Kielce\, 28-114\, Poland
GEO:50.872788;20.630021
X-APPLE-STRUCTURED-LOCATION;VALUE=URI;X-ADDRESS=Piotrkowska 12\, Kielce\, 2
 8-114\, Poland;X-APPLE-RADIUS=100;X-TITLE=Madness Club:geo:50.872788,20.63
 0021
END:VEVENT
BEGIN:VTIMEZONE
TZID:Europe/Warsaw
X-LIC-LOCATION:Europe/Warsaw
BEGIN:STANDARD
DTSTART:20181028T020000
TZOFFSETFROM:+0200
TZOFFSETTO:+0100
TZNAME:CET
END:STANDARD
END:VTIMEZONE
END:VCALENDAR