BEGIN:VCALENDAR
VERSION:2.0
PRODID:-//wp-events-plugin.com//7.2.3.1//EN
TZID:Europe/Warsaw
X-WR-TIMEZONE:Europe/Warsaw
BEGIN:VEVENT
UID:27853@night4u.pl
DTSTART;TZID=Europe/Warsaw:20191018T190000
DTEND;TZID=Europe/Warsaw:20191018T230000
DTSTAMP:20200331T205445Z
URL:https://night4u.pl/wydarzenia/co-zlego-to-my-truchlo-strzygi-gruzja-tr
 up-18-10-poz/
SUMMARY:Co Złego To My: Truchło Strzygi\, Gruzja\, Trup - 18.10. Poz
DESCRIPTION:Left Hand Sounds zaprasza na trasę koncertową “Co Złego To
  My”. Drwiny\, grzech\, brud i Metal.\n\nNa sześciu koncertach zaprezen
 tują się Truchło Strzygi\, Gruzja i Trup. Każda z tych grup ma swój p
 omysł na bezczelny metal i konsekwentnie go realizuje.\n\nCo Złego To My
 \nTruchło Strzygi – black punk\, Raszyn\nGruzja – podobno black metal
 \, Gruzja\nTrup – hałas\, Warszawa\n18.10. Poznań\, U Bazyla \nbilety:
 \n40zł w przedsprzedaży na lefthandsounds.org\n50zł w dniu koncertu\nst
 art pewnie wieczorem\, koniec nieco później\n\nTruchło Strzygi\nBusola 
 okazała się nie do końca donikąd. Ich debiut\, a przede wszystkim EP 
 “Nad Którymi Nie Czuwa Żaden Stróż” wywołały na naszej scenie ni
 e lada poruszenie. Kozackie podejście\, sceniczna dzicz\, absurdalne teks
 ty i żywiołowość\, którą można obdzielić z 15 kapel. Na prącie na
 m Kat?\n\nFFO: Venom\, Midnight\, Mayhem\n\nGruzja\nPodobno z Gruzji\, ale
  nikt ich tam nie widział. Podobno black metal\, ale na scenie w marynark
 ach. Nieudolnie rysują. Obrażają kobiety\, mężczyzn\, dzieci\, koleg
 ów\, nieznajomych. Próbowali obrazić Infernal War\, ale zmienili zdanie
 .\n\nFFO: In Twilight’s Embrace\n\nTrup\nW zasadzie debiutują\, ale gł
 ośno. Hałas\, hałas\, hałas. Wymiotują sludgem\, noisem\, crustem i b
 lack metalem naraz.\n\nFFO: Wurdulak\, Necrophagia\, Wolfpack
ATTACH;FMTTYPE=image/jpeg:https://night4u.pl/wp-content/uploads/2019/09/64
 746_image_69880895_2221114121345025_6439676554040573952_o.jpg
CATEGORIES:wielkopolskie
LOCATION:Klub u Bazyla\, ul. Norwida 18A\, Poznan\, 60-867\, Poland
GEO:52.416733;16.911755
X-APPLE-STRUCTURED-LOCATION;VALUE=URI;X-ADDRESS=ul. Norwida 18A\, Poznan\, 
 60-867\, Poland;X-APPLE-RADIUS=100;X-TITLE=Klub u Bazyla:geo:52.416733,16.
 911755
END:VEVENT
BEGIN:VTIMEZONE
TZID:Europe/Warsaw
X-LIC-LOCATION:Europe/Warsaw
BEGIN:DAYLIGHT
DTSTART:20190331T030000
TZOFFSETFROM:+0100
TZOFFSETTO:+0200
TZNAME:CEST
END:DAYLIGHT
END:VTIMEZONE
END:VCALENDAR