BEGIN:VCALENDAR
VERSION:2.0
PRODID:-//wp-events-plugin.com//7.2.3.1//EN
TZID:Europe/Warsaw
X-WR-TIMEZONE:Europe/Warsaw
BEGIN:VEVENT
UID:15222@night4u.pl
DTSTART;TZID=Europe/Warsaw:20190511T220000
DTEND;TZID=Europe/Warsaw:20190512T060000
DTSTAMP:20190507T203759Z
URL:https://night4u.pl/wydarzenia/cocon-saturday-night-5/
SUMMARY:Cocon Saturday Night
DESCRIPTION:Cocon Saturday Night\n______________________________________\n\
 ndj's:\nDJ FONIC / sala cocon\nBRTCK S  / sala coco\n\n___________________
 ___________________\n\nWstęp: 10 zł | START 22:00  | +18\nKarty COCON FR
 EE | Karty KLUBOWE FREE\nDo godz. 24:00 za okazaniem legitymacji uczniowsk
 iej\, studenckiej WSTĘP FREE\n\nW celu bezpieczeństwa i komfortu zabawy 
 klub zastrzega sobie prawo do selekcji gości.
ATTACH;FMTTYPE=image/jpeg:https://night4u.pl/wp-content/uploads/2019/05/37
 623_image_59912491_10156560937649585_4133006707787825152_o.jpg
CATEGORIES:małopolskie
LOCATION:Cocon Music Club\, ul. Gazowa 21\, Kraków\, 31-060\, Poland
GEO:50.04764;19.947289
X-APPLE-STRUCTURED-LOCATION;VALUE=URI;X-ADDRESS=ul. Gazowa 21\, Kraków\, 3
 1-060\, Poland;X-APPLE-RADIUS=100;X-TITLE=Cocon Music Club:geo:50.04764,19
 .947289
END:VEVENT
BEGIN:VTIMEZONE
TZID:Europe/Warsaw
X-LIC-LOCATION:Europe/Warsaw
BEGIN:DAYLIGHT
DTSTART:20190331T030000
TZOFFSETFROM:+0100
TZOFFSETTO:+0200
TZNAME:CEST
END:DAYLIGHT
END:VTIMEZONE
END:VCALENDAR