BEGIN:VCALENDAR
VERSION:2.0
PRODID:-//wp-events-plugin.com//7.2.3.1//EN
TZID:Europe/Warsaw
X-WR-TIMEZONE:Europe/Warsaw
BEGIN:VEVENT
UID:31189@night4u.pl
DTSTART;TZID=Europe/Warsaw:20191009T203000
DTEND;TZID=Europe/Warsaw:20191009T233000
DTSTAMP:20191009T200153Z
URL:https://night4u.pl/wydarzenia/cohen-zaspiewany-ela-debska-w-vertigo/
SUMMARY:Cohen Zaśpiewany - Ela Dębska w Vertigo
DESCRIPTION:Ballady  Leonarda Cohena w wykonaniu Eli Dębskiej\nLeonard Coh
 en - legendarny piosenkarz i poeta znany na całym świecie ze wspaniałyc
 h ballad\, takich jak „Zuzanna”\, "Alleluja"\, "Dance Me To The End Of
  Love" czy "In My Secret Life". Jego niepowtarzalny charyzmatyczny głos\,
  dystans do siebie i  teksty\, które nuci cały świat\, sprawiają\, że
  zyskał uznanie milionów fanów.\nPodczas koncertu w Vertigo usłyszymy 
 jego utwory w wykonaniu aktorki\, piosenkarki\, kompozytorki i autorki tek
 stów Eli Dębskiej. Artystka przez wiele lat współpracowała z Maciejem
  Zembatym\, wybitnym bardem i poetą\, który przetłumaczył i rozpowszec
 hnił Leonarda Cohena w Polsce. Wspólnie nagrali cztery płyty i zrealizo
 wali setki koncertów w całym kraju.\nArtystka wykorzystuje również wą
 tek spotkania przed wielu laty Leonarda Cohena z Janis Joplin i dołącza 
 do koncertu kilka bardzo ekspresyjnych przebojów tej wspaniałej artystki
 .\nW 2012 r. nagrała płytę z własnymi interpretacjami Cohena zatytuło
 waną „Kochałam cię dziś rano /I loved you in the morning”. \nSkła
 d zespołu:\nEla Dębska - wokal\, gitara\nHubert Radoszko - gitara\nŻeni
 a Betliński - kontrabas\nFilip Laszuk - perkusja\n\nZachęcamy do rezerwa
 cji miejsc w klubie: emenago.com/i/veritgojazz
ATTACH;FMTTYPE=image/jpeg:https://night4u.pl/wp-content/uploads/2019/10/72
 496_image_70194642_2372947962961122_1602569378946088960_o.jpg
CATEGORIES:dolnośląskie
LOCATION:Vertigo Jazz Club & Restaurant\, Oławska 13\, Wroclaw\, 53-125\, 
 Poland
GEO:51.10835;17.03537
X-APPLE-STRUCTURED-LOCATION;VALUE=URI;X-ADDRESS=Oławska 13\, Wroclaw\, 53-
 125\, Poland;X-APPLE-RADIUS=100;X-TITLE=Vertigo Jazz Club & Restaurant:geo
 :51.10835,17.03537
END:VEVENT
BEGIN:VTIMEZONE
TZID:Europe/Warsaw
X-LIC-LOCATION:Europe/Warsaw
BEGIN:DAYLIGHT
DTSTART:20190331T030000
TZOFFSETFROM:+0100
TZOFFSETTO:+0200
TZNAME:CEST
END:DAYLIGHT
END:VTIMEZONE
END:VCALENDAR