BEGIN:VCALENDAR
VERSION:2.0
PRODID:-//wp-events-plugin.com//7.2.3.1//EN
TZID:Europe/Warsaw
X-WR-TIMEZONE:Europe/Warsaw
BEGIN:VEVENT
UID:6820@night4u.pl
DTSTART;TZID=Europe/Warsaw:20190313T200000
DTEND;TZID=Europe/Warsaw:20190313T230000
DTSTAMP:20190210T152432Z
URL:https://night4u.pl/wydarzenia/coldplay-night-w-starym-klasztorze/
SUMMARY:Coldplay Night w Starym Klasztorze!
DESCRIPTION:Klub Stary Klasztor zaprasza 13 marca fanów zespołu Coldplay!
 \nColdplay Night to wieczór poświęcony twórczości tej niezwykłej bry
 tyjskiej grupy. \nChyba każdy z nas zna ich piosenki. Od pierwszego hitu\
 , którym dla grupy stał się utwór "Yellow" przez sentymentalne ballady
  "The Scientist" czy "Fix You" po największe taneczne hity ostatnich lat 
 jak "A Sky Full of Stars" czy "Something Just Like This".\nW wyniku zamił
 owania do ich wyjątkowej twórczości postanowiliśmy połączyć siły i
  zaprezentować piosenki powstałe podczas 20 lat muzycznych zmagań\, wsp
 ólnych wzlotów i upadków zespołu. \n\nWojtek Kiełbasa  - charyzmatycz
 ny gitarzysta i wokalista młodego pokolenia poprowadzi nas przez ten muzy
 czny wieczór wraz z zespołem w składzie:\nPaweł Wygas - bas \nMarek Ni
 edzielski - perkusja\nMateusz Kowalczyk - gitara\nPiotr Paduszyński - ins
 trumenty klawiszowe\n\nZabierzcie znajomych\, dobre humory i chęć do wsp
 ólnej zabawy. Do zobaczenia!\n\n13.03.19 godz.20:00 Sala Gotycka w Starym
  Klasztorze\, ul. Purkyniego 1\nCOLDPLAY NIGHT\nbilety: 40 zł – przedsp
 rzedaż\, 45 zł – w dniu koncertu\nmiejsca siedzące ( balkon): 50 zł\
 n\nBilety dostępne w sieci salonów Empik i MediaMarkt w całej Polsce\no
 raz w serwisach: www.staryklasztor.com.pl/bilety/\, www.biletin.pl\, www.b
 iletyna.pl\, www.eventim.pl\, www.ebilet.pl\, www.kupbilecik.pl\, www.empi
 kbilety.pl \nrezerwacje: bilety@o2.pl\n\nUwaga\, kupuj bilety wyłącznie 
 w autoryzowanych punktach! \nZakup biletów poza autoryzowanymi punktami s
 przedaży (Facebook\, aukcje internetowe\, systemy odsprzedaży biletów i
 tp.) stwarza ryzyko zakupu biletów nieoryginalnych lub nieważnych\, któ
 re nie umożliwią wejścia na koncert.
ATTACH;FMTTYPE=image/jpeg:https://night4u.pl/wp-content/uploads/2019/02/19
 924_image_48206064_1979392625509196_8463971653703958528_o.jpg
CATEGORIES:dolnośląskie
LOCATION:Stary Klasztor\, Purkyniego 1\, Wroclaw\, 50-155\, Poland
GEO:51.110198;17.039162
X-APPLE-STRUCTURED-LOCATION;VALUE=URI;X-ADDRESS=Purkyniego 1\, Wroclaw\, 50
 -155\, Poland;X-APPLE-RADIUS=100;X-TITLE=Stary Klasztor:geo:51.110198,17.0
 39162
END:VEVENT
BEGIN:VTIMEZONE
TZID:Europe/Warsaw
X-LIC-LOCATION:Europe/Warsaw
BEGIN:STANDARD
DTSTART:20181028T020000
TZOFFSETFROM:+0200
TZOFFSETTO:+0100
TZNAME:CET
END:STANDARD
END:VTIMEZONE
END:VCALENDAR