BEGIN:VCALENDAR
VERSION:2.0
PRODID:-//wp-events-plugin.com//7.2.3.1//EN
TZID:Europe/Warsaw
X-WR-TIMEZONE:Europe/Warsaw
BEGIN:VEVENT
UID:6047@night4u.pl
DTSTART;TZID=Europe/Warsaw:20190407T190000
DTEND;TZID=Europe/Warsaw:20190407T211500
DTSTAMP:20190201T053230Z
URL:https://night4u.pl/wydarzenia/coldplay-night-w-toruniu/
SUMMARY:Coldplay Night w Toruniu !
DESCRIPTION:Coldplay Night w Toruniu !\n07.04.2019 [niedziela] / start: 19:
 00 / drzwi: 18:00\nKlub Muzyczny Lizard King Toruń\, ul. Kopernika 3\n___
 _______________________________\nBILETY:\n▪ 30 zł - Bar Klubu Lizard Ki
 ng - WKRÓTCE\n▪ 30 zł - biletyna.pl [całą dobę - bilety online]\n? 
 LINK: https://bit.ly/2Siauy9\n▪ 30 zł - Copernicana\, ul. Żeglarska 18
 /1 [pon-pt w g. 9-17]\n▪ 40 zł - w dniu koncertu\, od godz. 18:00\n____
 ______________________________\nColdplay Night to wieczór poświęcony tw
 órczości tej niezwykłej brytyjskiej grupy. \n\nChyba każdy z nas zna i
 ch piosenki. Od pierwszego hitu\, którym dla grupy stał się utwór "Yel
 low" przez sentymentalne ballady "The Scientist" czy "Fix You" po najwięk
 sze taneczne hity ostatnich lat jak "A Sky Full of Stars" czy "Something J
 ust Like This".\nW wyniku zamiłowania do ich wyjątkowej twórczości pos
 tanowiliśmy połączyć siły i zaprezentować piosenki powstałe podczas
  20 lat muzycznych zmagań\, wspólnych wzlotów i upadków zespołu. \n\n
 Wojtek Kiełbasa  - charyzmatyczny gitarzysta i wokalista młodego pokolen
 ia poprowadzi nas przez ten muzyczny wieczór wraz z zespołem w składzie
 :\nPaweł Wygas - bas \nMarek Niedzielski - perkusja\nMateusz Kowalczyk - 
 gitara\nPiotr Paduszyński - instrumenty klawiszowe\n\nZabierzcie znajomyc
 h\, dobre humory i chęć do wspólnej zabawy. Do zobaczenia!
ATTACH;FMTTYPE=image/jpeg:https://night4u.pl/wp-content/uploads/2019/01/18
 121_image_50882482_10156296861311731_3468734816541736960_n.jpg
CATEGORIES:kujawsko-pomorskie
LOCATION:Lizard King Toruń\, Kopernika 3\, Torun\, 87-100\, Poland
GEO:53.00939;18.60504
X-APPLE-STRUCTURED-LOCATION;VALUE=URI;X-ADDRESS=Kopernika 3\, Torun\, 87-10
 0\, Poland;X-APPLE-RADIUS=100;X-TITLE=Lizard King Toruń:geo:53.00939,18.6
 0504
END:VEVENT
BEGIN:VTIMEZONE
TZID:Europe/Warsaw
X-LIC-LOCATION:Europe/Warsaw
BEGIN:DAYLIGHT
DTSTART:20190331T030000
TZOFFSETFROM:+0100
TZOFFSETTO:+0200
TZNAME:CEST
END:DAYLIGHT
END:VTIMEZONE
END:VCALENDAR