BEGIN:VCALENDAR
VERSION:2.0
PRODID:-//wp-events-plugin.com//7.2.3.1//EN
TZID:Europe/Warsaw
X-WR-TIMEZONE:Europe/Warsaw
BEGIN:VEVENT
UID:3720@night4u.pl
DTSTART;TZID=Europe/Warsaw:20190227T203000
DTEND;TZID=Europe/Warsaw:20190227T233000
DTSTAMP:20190414T211613Z
URL:https://night4u.pl/wydarzenia/colin-webster-mark-holub-spontaneous-liv
 e-series-2019-vol-2/
SUMMARY:Colin Webster/Mark Holub - Spontaneous Live Series 2019\, vol. 2
DESCRIPTION:Colin Webster/ Mark Holub  \nSpontaneous Live Series 2019\, Vol
 . 2\n\nDrugie spotkanie w ramach nowego cyklu koncertowego\, organizowaneg
 o przez Dragon Social Club i Trybunę Muzyki Spontanicznej.\n\nJedna z gwi
 azd listopadowego festiwalu “Drumming Now!” – brytyjski saksofonista
  Colin Webster – powraca do Poznania\, by zaprezentować\, funkcjonując
 y artystycznie od wielu lat\, duet z amerykańskim perkusistą Markiem Hol
 ubem. Muzycy promować będą swoją piątą płytę „Nadir”\, która 
 ukazuje się nakładem wytwórni Raw Tonk Records.\n\nKoncert poznański j
 est częścią europejskiej trasy duetu. Oto pozostałe koncerty:\n25.02 -
  Celeste\, Vienna\, AT \n26.02 - Subbotnik\, Leipzig\, DE \n28.02 - Kühls
 pot\, Berlin\, DE \n01.03 - OPT\, Wroclaw\, PL\n\n\nCOLIN WEBSTER / MARK H
 OLUB\nThe duo of saxophonist Colin Webster and drummer Mark Holub deliver 
 raw\, guttural free jazz in the tradition of the past masters. Evincing a 
 musical dialog informed by over a decade of collaboration\, the duo are du
 e to release their fifth album ‘Nadir’ on Raw Tonk Records in February
 .\n\n\n\n\nMark Holub is best known as leader of avant-jazz quintet Led Bi
 b\, a unit with a discography that boasts several critically acclaimed alb
 ums.  Now a resident of Vienna\, he is also highly active within the Austr
 ian experimental music community.  \n\nhttp://www.markholub.space/\nhttps:
 //en.wikipedia.org/wiki/Mark_Holub\n\nLondon based saxophonist Colin Webst
 er is quickly establishing himself on the European avant garde scene. Coll
 aborating with some of the key figures in improvised and experimental musi
 c\, Webster is known for working from extreme sonic palettes  – from min
 imal to maximal\, constantly pushing boundaries.\n\nhttps://colinwebster.b
 andcamp.com/\nhttps://webstology.wordpress.com/
ATTACH;FMTTYPE=image/jpeg:https://night4u.pl/wp-content/uploads/2019/01/11
 656_image_49530466_2187295274649030_4432443284974993408_n.jpg
CATEGORIES:wielkopolskie
LOCATION:Dragon Social Club\, ul.Zamkowa 3\, Poznan\, 61-768\, Poland
GEO:52.409327;16.932084
X-APPLE-STRUCTURED-LOCATION;VALUE=URI;X-ADDRESS=ul.Zamkowa 3\, Poznan\, 61-
 768\, Poland;X-APPLE-RADIUS=100;X-TITLE=Dragon Social Club:geo:52.409327,1
 6.932084
END:VEVENT
BEGIN:VTIMEZONE
TZID:Europe/Warsaw
X-LIC-LOCATION:Europe/Warsaw
BEGIN:STANDARD
DTSTART:20181028T020000
TZOFFSETFROM:+0200
TZOFFSETTO:+0100
TZNAME:CET
END:STANDARD
END:VTIMEZONE
END:VCALENDAR