BEGIN:VCALENDAR
VERSION:2.0
PRODID:-//wp-events-plugin.com//7.2.3.1//EN
TZID:Europe/Warsaw
X-WR-TIMEZONE:Europe/Warsaw
BEGIN:VEVENT
UID:36092@night4u.pl
DTSTART;TZID=Europe/Warsaw:20191129T220000
DTEND;TZID=Europe/Warsaw:20191130T050000
DTSTAMP:20191129T103601Z
URL:https://night4u.pl/wydarzenia/colours-of-coyote-7/
SUMMARY:Colours of Coyote
DESCRIPTION:Piątek\, piąteczek\, piątunio – weekend czas zacząć 😉
  Jak zawsze specjalnie dla Was buteleczki w dobrej cenie!\n\nButelka z nap
 ojem po 80 zł!...\n- Smirnoff Black 0\,7 z napojem\n- Johnnie Walker Red 
 Label 0\,7 z napojem\n- Captain Morgan White Rum lub Spiced Rum 0\,7 z nap
 ojem\n- Gordon’s London Dry Gin 0\,7 z napojem\n\nStart 22.00. Studenci 
 wstęp wolny przez całą noc.\nPanie wstęp 10zł\, Panowie wstęp 20 zł
 \nWstęp od 19 lat. Rezerwacja loży 80 zł lub w cenie dowolnego pakietu 
 butelkowego. (tel. W celu rezerwacji 509 33 10 34)\n\nIt’s time for Coyo
 te Club!\n\nAs always we have a special offer for You! The bottles of well
  known brands of alcohol with 1l of beverage for only 80 pln!\n\n- Smirnof
 f Black 0\,7l with 1l of beverage\n- Johhnie Walker Red Label with 1l of b
 everage\n- Capitan Morgan (White or Spiced) with 1l of beverage\n- Gordon
 ’s London Dry Gin with 1l of beverage\n\nWe are starting at 10 p.m. \nEn
 terace Fee: Free for studnets of polish universities! \nGirls : 10 pln\nGu
 ys  20 pln\nRequired age: 19+ \n\nCall us (509 33 10 34) and make a reserv
 ation ! The reservations cost is 80 pln or equal to any sets of bottles of
  alcohol.
ATTACH;FMTTYPE=image/jpeg:https://night4u.pl/wp-content/uploads/2019/11/97
 358_image_70150580_10159198506702796_7593582478036566016_n.jpg
CATEGORIES:zachodniopomorskie
LOCATION:Coyote Club\, ul.Jagiellońska 89\, Szczecin\, Poland
GEO:53.431;14.54384
X-APPLE-STRUCTURED-LOCATION;VALUE=URI;X-ADDRESS=ul.Jagiellońska 89\, Szcze
 cin\, Poland;X-APPLE-RADIUS=100;X-TITLE=Coyote Club:geo:53.431,14.54384
END:VEVENT
BEGIN:VTIMEZONE
TZID:Europe/Warsaw
X-LIC-LOCATION:Europe/Warsaw
BEGIN:STANDARD
DTSTART:20191027T020000
TZOFFSETFROM:+0200
TZOFFSETTO:+0100
TZNAME:CET
END:STANDARD
END:VTIMEZONE
END:VCALENDAR